Workbook

Sheet Geral
B9: PLANILHA DE FORMAÇÃO DE PREÇOS
B10: PLANILHA DE RESUMO
B11: ITEM | C11: DESCRIÇÃO | D11: UNIDADE | E11: QUANTIDADE ANUAL | F11: QUANTI MENSAL | G11: VALOR UNITÁRIO | H11: VALOR MENSAL R$ | I11: VALOR ANUAL r$
B12: 1 | C12: Varrição manual de vias e logradouros | D12: m² | E12: 31200000 | F12: =E12/12 -> 2600000 | H12: =G12*F12 -> 0 | I12: =E12*G12 -> 0
B13: 2 | C13: Varrição mecanizada | D13: m² | E13: 7920000 | F13: =E13/12 -> 660000 | H13: =G13*F13 -> 0 | I13: =E13*G13 -> 0
B14: 3 | C14: Equipe volante de limpeza urbana | D14: m² | E14: 7488000 | F14: =E14/12 -> 624000 | H14: =G14*F14 -> 0 | I14: =E14*G14 -> 0
B15: 4 | C15: Roçagem mecanizada | D15: hora/equipe | E15: 4224 | F15: =E15/12 -> 352 | H15: =G15*F15 -> 0 | I15: =E15*G15 -> 0
B16: 5 | C16: Poda de árvores e arbustos | D16: hora/equipe | E16: 2112 | F16: =E16/12 -> 176 | H16: =G16*F16 -> 0 | I16: =E16*G16 -> 0
B17: 6 | C17: Serviço fitossanitário em áreas verdes | D17: m² | E17: 2054472 | F17: =E17/12 -> 171206 | H17: =G17*F17 -> 0 | I17: =E17*G17 -> 0
B18: 7 | C18: Pintura de meio-fio | D18: metro linear | E18: 1872000 | F18: =E18/12 -> 156000 | H18: =G18*F18 -> 0 | I18: =H18*12 -> 0
B19: 8 | C19: Administração local | D19: mês | E19: 12 | F19: =E19/12 -> 1 | H19: =F19*G19 -> 0 | I19: =E19*G19 -> 0
B20: VALOR MENSAL R$ | I20: =I21/12 -> 0
B21: VALOR GLOBAL (12 MESES) | I21: =SUM(I12:I19) -> 0

Sheet Tabela de Salários 
A1: TABELA DE SALÁRIOS DA MÃO DE OBRA
A2: Salário de acordo com o ADITIVO CONVENÇÃO COLETIVA DE TRABALHO 2025/2026
A3: salário minimo vigente 2026 | D3: 1621
A4: N.º | B4: FUNÇÕES | C4: SALÁRIO BASE | D4: INSALUBRIDADE/PERICULOSIDADE/ADICIONAL NOTURNO (% do Salário Base ) | E4: TIPO | F4: TOTAL SALÁRIO MÊS
A5: 1 | B5: Coletor de Lixo | D5: =C5*40% -> 0 | E5: INSALUBRIDADE | F5: =SUM(C5:D5) -> 0
A6: 2 | B6: Gari de varrição | D6: =C6*40% -> 0 | E6: INSALUBRIDADE | F6: =SUM(C6:D6) -> 0
A7: 3 | B7: Agente de Limpeza e Conservação | D7: =C7*40% -> 0 | E7: INSALUBRIDADE | F7: =SUM(C7:D7) -> 0
A8: 4 | B8: Auxiliar de pintura (meio fio) | D8: =C8*40% -> 0 | E8: INSALUBRIDADE | F8: =SUM(C8:D8) -> 0
A9: 5 | B9: Operador de Trator | D9: =C9*30% -> 0 | E9: PERICULOSIDADE | F9: =SUM(C9:D9) -> 0
A10: 6 | B10: Operador de Caminhão (varredeira mecânica sucção a vácuo) | D10: =20%*C10 -> 0 | E10: INSALUBRIDADE | F10: =SUM(C10:D10) -> 0
A11: 7 | B11: Fiscal de Limpeza Pública | F11: =SUM(C11:D11) -> 0
A12: 8 | B12: Motorista de caminhão (Categoria D) | F12: =SUM(C12:D12) -> 0
A13: 9 | B13: Gerente Operacional | F13: =SUM(C13:D13) -> 0
A14: 10 | B14: Gerente | F14: =SUM(C14:D14) -> 0
A15: 11 | B15: Gerente de Recursos Humanos | F15: =SUM(C15:D15) -> 0
A16: 12 | B16: Encarregado de Limpeza Urbana/Pública | F16: =SUM(C16:D16) -> 0
A17: 13 | B17: Auxiliar administrativo | F17: =SUM(C17:D17) -> 0
A18: 14 | B18: Técnico Segurança Trabalho | F18: =SUM(C18:D18) -> 0
A19: 15 | B19: Vigia e/ou porteiro (desarmada) (12X36) diurno | D19: =C19*30% -> 0 | E19: =E9 -> PERICULOSIDADE | F19: =SUM(C19:D19) -> 0
A20: 16 | B20: Vigia e/ou porteiro (desarmada) (12X36) norturno | D20: =(C20*30%)+(C20*25%) -> 0 | E20: PERICULOSIDADE + ADICIONAL NOTURNO | F20: =SUM(C20:D20) -> 0
A21: 17 | B21: Lavador de Veículos | D21: =C21*40% -> 0 | E21: INSALUBRIDADE | F21: =SUM(C21:D21) -> 0
A22: 18 | B22: Mecânico de manutenção de automóveis (carga leve ou pesada) | D22: =C22*40% -> 0 | E22: INSALUBRIDADE | F22: =SUM(C22:D22) -> 0
A23: 19 | B23: Jardineiro | D23: =C23*20% -> 0 | E23: INSALUBRIDADE | F23: =SUM(C23:D23) -> 0
A24: 20 | B24: podador | D24: =C24*30% -> 0 | E24: PERICULOSIDADE | F24: =SUM(C24:D24) -> 0
A26: INSUMOS /BENEFICIOS
A27: Vale Alimentação
A28: Vale Lanche
A29: Vale Gás
A30: Assiduidade
A31: Bonificação de não Ausência
A32: Auxilio Funeral
A33: Vale transporte (preço unitário do vale)
A34: Ppra/pcmso (por pessoa)
A35: Seguro de vida (por pessoa)
A36: Exames admissionais , demissionais e periódicos (por pessoa)
A37: Cota de aprendizagem (por pessoa )
... A39: Reserva de amparo ao trabalhador

Sheet Varrição Manual 
A1: Á
A2: Prefeitura de Várzea Grande
A3: Secretaria Municipal de Serviços Público e Mobilidade Urbana
A4: PLANILHA DE FORMAÇÃO DE PREÇOS
A5: =Geral!#REF! -> #REF!
A6: MÃO DE OBRA
A7: ITEM | B7: FUNÇÃO | E7: UND | F7: QTD | G7: SALÁRIO (R$)+INSALUBRIDADE OU PERICULOSIDADE | H7: ENC.SOCIAIS(85,41%) | I7: TOTAL
A8: 1 | B8: Gari de varrição | E8: UND | F8: 36 | G8: ='Tabela de Salários '!F5 -> 0 | H8: =G8*85.41% -> 0 | I8: =(H8+G8)*F8 -> 0
A9: 2 | B9: Encarregado de Limpeza Urbana/Pública | E9: UND | F9: 1 | G9: ='Tabela de Salários '!F16 -> 0 | H9: =G9*85.41% -> 0 | I9: =(H9+G9)*F9 -> 0
A10: 3 | B10: Motorista de Caminhão (Cat. D) | E10: UND | F10: 1 | G10: ='Tabela de Salários '!F12 -> 0 | H10: =G10*85.41% -> 0 | I10: =(H10+G10)*F10 -> 0
A11: 4 | B11: Motorista de Van (Cat. D) | E11: UND | F11: 2 | G11: ='Tabela de Salários '!F12 -> 0 | H11: =G11*85.41% -> 0 | I11: =(H11+G11)*F11 -> 0
A12: SUB-TOTAL MENSAL | I12: =SUM(I8:I11) -> 0
A13: ITEM | B13: BENEFÍCIOS | E13: Qtd Por operário | G13: Nº OPERÁRIOS | H13: PREÇO UNIT. | I13: TOTAL
A14: 1 | B14: ='Tabela de Salários '!A27 -> Vale Alimentação | E14: 1 | G14: =SUM(F8+F9+F10+F11) -> 40 | H14: ='Tabela de Salários '!C27 -> 0 | I14: =H14*G14*E14*0.95 -> 0
A15: =A14+1 -> 2 | B15: ='Tabela de Salários '!A28 -> Vale Lanche | E15: 26 | G15: =$G$14 -> 40 | I15: =E15*G15*H15 -> 0
A16: =A15+1 -> 3 | B16: ='Tabela de Salários '!A29 -> Vale Gás | E16: 1 | G16: =$G$14 -> 40 | I16: =E16*G16*H16 -> 0
A17: =A16+1 -> 4 | B17: ='Tabela de Salários '!A30 -> Assiduidade | E17: 1 | G17: =$G$14 -> 40 | I17: =E17*G17*H17 -> 0
A18: =A17+1 -> 5 | B18: ='Tabela de Salários '!A31 -> Bonificação de não Ausência | E18: 1 | G18: =$G$14 -> 40 | I18: =E18*G18*H18 -> 0
A19: =A18+1 -> 6 | B19: ='Tabela de Salários '!A32 -> Auxilio Funeral | E19: 1 | G19: =$G$14 -> 40 | I19: =E19*G19*H19 -> 0
A20: =A19+1 -> 7 | B20: Vale transporte | C20: =B8 -> Gari de varrição | D20: ='Tabela de Salários '!C5 -> 0 | E20: =26*2 -> 52 | G20: =F8 -> 36 | I20: =G20*H20 -> 0
A21: =A20+1 -> 8 | B21: Vale transporte | C21: =B9 -> Encarregado de Limpeza Urbana/Pública | D21: ='Tabela de Salários '!C16 -> 0 | E21: =26*2 -> 52 | G21: =F9 -> 1 | I21: 0
A22: =A21+1 -> 9 | B22: Vale transporte | C22: =B10 -> Motorista de Caminhão (Cat. D) | D22: ='Tabela de Salários '!C12 -> 0 | E22: =26*2 -> 52 | G22: =F10 -> 1 | I22: =G22*H22 -> 0
A23: =A22+1 -> 10 | B23: Vale transporte | C23: =B11 -> Motorista de Van (Cat. D) | D23: =[1]SALÁRIOS!C12 -> 3236.7 | E23: =26*2 -> 52 | G23: =F11 -> 2 | I23: =G23*H23 -> 0
A24: =A23+1 -> 11 | B24: ='Tabela de Salários '!A34 -> Ppra/pcmso (por pessoa) | E24: 1 | G24: =G14 -> 40 | I24: =H24*G24*E24 -> 0
A25: =A24+1 -> 12 | B25: ='Tabela de Salários '!A35 -> Seguro de vida (por pessoa) | E25: 1 | G25: =G15 -> 40 | I25: =H25*G25*E25 -> 0
A26: =A25+1 -> 13 | B26: ='Tabela de Salários '!A36 -> Exames admissionais , demissionais e periódicos (por pessoa) | E26: 1 | G26: =G16 -> 40 | I26: =H26*G26*E26 -> 0
A27: =A26+1 -> 14 | B27: ='Tabela de Salários '!A37 -> Cota de aprendizagem (por pessoa ) | E27: 1 | G27: =G17 -> 40 | I27: =H27*G27*E27 -> 0
A28: =A27+1 -> 15 | B28: ='Tabela de Salários '!A38 -> Plano odontológico (por pessoa) | E28: 1 | G28: =G18 -> 40 | I28: =H28*G28*E28 -> 0
A29: =A28+1 -> 16 | B29: Reserva de amparo ao trabalhador | C29: =C20 -> Gari de varrição | D29: =D20 -> 0 | E29: 1 | G29: =F8 -> 36 | I29: =H29*G29*E29 -> 0
A30: =A29+1 -> 17 | B30: Reserva de amparo ao trabalhador | C30: =B9 -> Encarregado de Limpeza Urbana/Pública | D30: =D21 -> 0 | E30: 1 | G30: =F9 -> 1 | I30: =H30*G30*E30 -> 0
A31: =A30+1 -> 18 | B31: Reserva de amparo ao trabalhador | C31: =B10 -> Motorista de Caminhão (Cat. D) | D31: =D22 -> 0 | E31: 1 | G31: =F10 -> 1 | I31: =H31*G31*E31 -> 0
A32: =A31+1 -> 19 | B32: Reserva de amparo ao trabalhador | C32: =B11 -> Motorista de Van (Cat. D) | D32: =D23 -> 3236.7 | E32: 1 | G32: =F11 -> 2 | I32: =H32*G32*E32 -> 0
A33: SUB-TOTAL MENSAL | I33: =SUM(I14:I32) -> 0
A34: ITEM | B34: UNIFORMES / EPI´S / FERRAMENTAS | E34: Qtd. Por operário | G34: Nº OPERÁRIOS | H34: PREÇO UNIT. | I34: TOTAL
A35: 1 | B35: CONJUNTO DE CALÇA E CAMISA | E35: 6 | G35: =$G$14 -> 40 | I35: =H35*G35*E35 -> 0
A36: 2 | B36: BOTA DE COURO | E36: 6 | G36: =$G$14 -> 40 | I36: =H36*G36*E36 -> 0
A37: 3 | B37: LUVA PIGUIMENTADA | E37: =2*12 -> 24 | G37: =$G$14 -> 40 | I37: =H37*G37*E37 -> 0
A38: 4 | B38: CAPA DE CHUVA | E38: 2 | G38: =$G$14 -> 40 | I38: =H38*G38*E38 -> 0
A39: 5 | B39: PROTETOR SOLAR FACIAL ( FRASCO DE 200 ml) | E39: 12 | G39: =$G$14 -> 40 | I39: =H39*G39*E39 -> 0
A40: 6 | B40: MEIÃO DE LÃ (PARES) | E40: 6 | G40: =$G$14 -> 40 | I40: =H40*G40*E40 -> 0
...

Sheet Varrição Mecanizada 
A1: Á
A2: Prefeitura de Várzea Grande
A3: Secretaria Municipal de Serviços Público e Mobilidade Urbana
A5: PLANILHA DE FORMAÇÃO DE PREÇOS
A6: =[2]Resumo!C8 -> Varrição mecanizada
A7: MÃO DE OBRA
A8: ITEM | B8: FUNÇÃO | E8: UND | F8: QTD | G8: SALÁRIO (R$)+INSALUBRIDADE OU PERICULOSIDADE | H8: ENC.SOCIAIS(85,41%) | I8: TOTAL
A9: 1 | B9: Operador de Trator com Varredeira | E9: UND | F9: 1 | G9: ='Tabela de Salários '!F10 -> 0 | H9: =G9*85.41% -> 0 | I9: =(H9+G9)*F9 -> 0
A10: 2 | B10: Agente de conservação /Apoio | E10: UND | F10: 2 | G10: ='Tabela de Salários '!F7 -> 0 | H10: =G10*85.41% -> 0 | I10: =(H10+G10)*F10 -> 0
A11: 3 | B11: ='Tabela de Salários '!B12 -> Motorista de caminhão (Categoria D) | E11: UND | F11: 1 | G11: ='Tabela de Salários '!F12 -> 0 | H11: =G11*85.41% -> 0 | I11: =(H11+G11)*F11 -> 0
A12: SUB-TOTAL MENSAL | I12: =SUM(I9:I11) -> 0
A13: ÍTEM | B13: OUTROS BENEFÍCIOS | E13: Qtd Por operário | G13: Nº OPERÁRIOS | H13: PREÇO UNIT. | I13: TOTAL
A14: 1 | B14: Vale Alimentação | E14: 1 | G14: =F9+F10+F11 -> 4 | H14: ='Roçagem Mec'!H14 -> 0 | I14: =H14*G14*E14*0.95 -> 0
A15: 2 | B15: Vale Lanche | E15: 26 | G15: =F9+F10+F11 -> 4 | H15: ='Roçagem Mec'!H15 -> 0 | I15: =E15*G15*H15 -> 0
A16: 3 | B16: Vale Gás | E16: 1 | G16: =F9+F10+F11 -> 4 | H16: ='Roçagem Mec'!H16 -> 0 | I16: =E16*G16*H16 -> 0
A17: 4 | B17: Assiduidade | E17: 1 | G17: =F9+F10+F11 -> 4 | H17: ='Roçagem Mec'!H17 -> 0 | I17: =E17*G17*H17 -> 0
A18: 5 | B18: Bonificação de não Ausência | E18: 1 | G18: =G17 -> 4 | H18: ='Roçagem Mec'!H18 -> 0 | I18: =E18*G18*H18 -> 0
A19: 6 | B19: Auxilio Funeral | E19: 1 | G19: =F9+F10+F11 -> 4 | H19: ='Roçagem Mec'!H19 -> 0 | I19: =E19*G19*H19 -> 0
A20: 7 | B20: Vale Transporte | C20: =B9 -> Operador de Trator com Varredeira | D20: ='Tabela de Salários '!C10 -> 0 | E20: =22*2 -> 44 | G20: =F9 -> 1 | I20: =G20*H20 -> 0
A21: 8 | B21: Vale Transporte | C21: =B10 -> Agente de conservação /Apoio | D21: ='Tabela de Salários '!C7 -> 0 | E21: =22*2 -> 44 | G21: =F10 -> 2 | I21: =G21*H21 -> 0
A22: 9 | B22: Vale Transporte | C22: =B11 -> Motorista de caminhão (Categoria D) | D22: ='Tabela de Salários '!C12 -> 0 | E22: =22*2 -> 44 | G22: =F11 -> 1 | I22: =G22*H22 -> 0
A23: 10 | B23: ='Roçagem Mec'!B23 -> Ppra/pcmso (por pessoa) | E23: 1 | G23: =F9+F10+F11 -> 4 | I23: =H23*G23*E23 -> 0
A24: 11 | B24: ='Roçagem Mec'!B24 -> Seguro de vida (por pessoa) | E24: 1 | G24: =F9+F10+F11 -> 4 | I24: =H24*G24*E24 -> 0
A25: 12 | B25: ='Roçagem Mec'!B25 -> Exames admissionais , demissionais e periódicos (por pessoa) | E25: 1 | G25: =F9+F10+F11 -> 4 | I25: =E25*G25*H25 -> 0
A26: 13 | B26: ='Roçagem Mec'!B26 -> Cota de aprendizagem (por pessoa ) | E26: 1 | G26: =F9+F10+F11 -> 4 | I26: =E26*G26*H26 -> 0
A27: 14 | B27: ='Roçagem Mec'!B27 -> Plano odontológico (por pessoa) | E27: 1 | G27: =F9+F10+F11 -> 4 | I27: =E27*G27*H27 -> 0
A28: 15 | B28: RESERVA DE AMPARO AO TRABALHADOR | C28: =B9 -> Operador de Trator com Varredeira | D28: =D20 -> 0 | E28: 1 | G28: =F9 -> 1 | H28: =D28*1% -> 0 | I28: =G28*H28 -> 0
A29: 16 | B29: RESERVA DE AMPARO AO TRABALHADOR | C29: =B10 -> Agente de conservação /Apoio | D29: =D21 -> 0 | E29: 1 | G29: =F10 -> 2 | H29: =D29*1% -> 0 | I29: =G29*H29 -> 0
A30: 17 | B30: RESERVA DE AMPARO AO TRABALHADOR | C30: =B11 -> Motorista de caminhão (Categoria D) | D30: =D22 -> 0 | E30: 1 | G30: =F11 -> 1 | H30: =D30*1% -> 0 | I30: =G30*H30 -> 0
A31: SUB-TOTAL MENSAL | I31: =SUM(I14:I30) -> 0
A32: ITEM | B32: UNIFORMES / EPI´S / FERRAMENTAS | E32: Qtd. Por operário | G32: Nº OPERÁRIOS | H32: PREÇO UNIT. | I32: TOTAL
A33: 1 | B33: CONJUNTO DE CALÇA E CAMISA | E33: 6 | G33: =F9+F10+F11 -> 4 | H33: ='Roçagem Mec'!H33 -> 0 | I33: =H33*G33*E33 -> 0
A34: 2 | B34: BOTA DE COURO | E34: 6 | G34: =F9+F10+F11 -> 4 | H34: ='Roçagem Mec'!H34 -> 0 | I34: =H34*G34*E34 -> 0
A35: 3 | B35: LUVA PIGUIMENTADA | E35: =2*12 -> 24 | G35: =F9+F10+F11 -> 4 | I35: =H35*G35*E35 -> 0
A36: 4 | B36: CAPA DE CHUVA | E36: 2 | G36: =F9+F10+F11 -> 4 | I36: =H36*G36*E36 -> 0
A37: 5 | B37: PROTETOR SOLAR FACIAL FATOR 50 ( FRASCO DE 200 ml) | E37: 12 | G37: =F9+F10+F11 -> 4 | I37: =H37*G37*E37 -> 0
A38: 6 | B38: MEIÃO DE LÃ (PARES) | E38: 6 | G38: =F9+F10+F11 -> 4 | I38: =H38*G38*E38 -> 0
A39: 7 | B39: BONÉ LEGIONÁRIO | E39: 6 | G39: =F9+F10+F11 -> 4 | I39: =H39*G39*E39 -> 0
A40: 8 | B40: CONE DE SINALIZAÇÃO | E40: 6 | G40: =F9+F10+F11 -> 4 | I40: =H40*G40*E40 -> 0
A41: 9 | B41: CARRINHO DE POLIETILENO, 120 L | E41: 1 | G41: =F9+F10+F11 -> 4 | I41: =H41*G41*E41 -> 0
...

Sheet Equipe Volante 
A1: Á
A2: Prefeitura de Várzea Grande
A3: Secretaria Municipal de Serviços Público e Mobilidade Urbana
A5: PLANILHA DE FORMAÇÃO DE PREÇOS
A6: =[2]Resumo!C9 -> Equipe volante de limpeza urbana
A7: MÃO DE OBRA
A8: ITEM | B8: FUNÇÃO | E8: UND | F8: QTD | G8: SALÁRIO (R$)+INSALUBRIDADE OU PERICULOSIDADE | H8: ENC.SOCIAIS(85,41%) | I8: TOTAL
A9: 1 | B9: ='Tabela de Salários '!B7 -> Agente de Limpeza e Conservação | E9: UND | F9: 70 | G9: ='Tabela de Salários '!F7 -> 0 | H9: =G9*85.41% -> 0 | I9: =(H9+G9)*F9 -> 0
A10: 2 | B10: ='Tabela de Salários '!B11 -> Fiscal de Limpeza Pública | E10: UND | F10: 2 | G10: ='Tabela de Salários '!F11 -> 0 | H10: =G10*85.41% -> 0 | I10: =(H10+G10)*F10 -> 0
A11: 3 | B11: ='Tabela de Salários '!B12 -> Motorista de caminhão (Categoria D) | E11: UND | F11: 9 | G11: ='Tabela de Salários '!F12 -> 0 | H11: =G11*85.41% -> 0 | I11: =(H11+G11)*F11 -> 0
A12: 4 | B12: ='Tabela de Salários '!B16 -> Encarregado de Limpeza Urbana/Pública | E12: UND | F12: 1 | G12: ='Tabela de Salários '!F16 -> 0 | H12: =G12*85.41% -> 0 | I12: =(H12+G12)*F12 -> 0
A13: SUB-TOTAL MENSAL | I13: =SUM(I9:I12) -> 0
A14: ÍTEM | B14: OUTROS BENEFÍCIOS | E14: Qtd Por operário | G14: Nº OPERÁRIOS | H14: PREÇO UNIT. | I14: TOTAL
A15: 1 | B15: Vale Alimentação | E15: 1 | G15: =+F9+F10+F12+F11 -> 82 | H15: ='Varrição Manual '!H14 -> 0 | I15: =H15*G15*E15*0.95 -> 0
A16: 2 | B16: Vale Lanche | E16: 26 | G16: =G15 -> 82 | H16: ='Varrição Manual '!H15 -> 0 | I16: =E16*G16*H16 -> 0
A17: 3 | B17: Vale Gás | E17: 1 | G17: =G16 -> 82 | H17: ='Varrição Manual '!H16 -> 0 | I17: =E17*G17*H17 -> 0
A18: 4 | B18: Assiduidade | E18: 1 | G18: =G17 -> 82 | I18: =E18*G18*H18 -> 0
A19: 5 | B19: Bonificação de não Ausência | E19: 1 | G19: =G18 -> 82 | I19: =E19*G19*H19 -> 0
A20: 6 | B20: Auxilio Funeral | E20: 1 | G20: =G19 -> 82 | I20: =E20*G20*H20 -> 0
A21: 7 | B21: ='Varrição Manual '!B20 -> Vale transporte | C21: =B9 -> Agente de Limpeza e Conservação | D21: ='Tabela de Salários '!C7 -> 0 | E21: =26*2 -> 52 | G21: =F9 -> 70 | I21: =G21*H21 -> 0
A22: 8 | B22: ='Varrição Manual '!B21 -> Vale transporte | C22: =B10 -> Fiscal de Limpeza Pública | D22: ='Tabela de Salários '!C11 -> 0 | E22: =26*2 -> 52 | G22: =F10 -> 2 | I22: =G22*H22 -> 0
A23: 9 | B23: ='Varrição Manual '!B22 -> Vale transporte | C23: =B11 -> Motorista de caminhão (Categoria D) | D23: ='Tabela de Salários '!C12 -> 0 | E23: =26*2 -> 52 | G23: =F11 -> 9 | I23: =G23*H23 -> 0
A24: 10 | B24: ='Varrição Manual '!B23 -> Vale transporte | C24: =B12 -> Encarregado de Limpeza Urbana/Pública | D24: ='Tabela de Salários '!C16 -> 0 | E24: =26*2 -> 52 | G24: =F12 -> 1 | I24: =G24*H24 -> 0
A25: 11 | B25: ='Varrição Manual '!B24 -> Ppra/pcmso (por pessoa) | E25: 1 | G25: =F9+F10+F12+F11 -> 82 | H25: ='Varrição Manual '!H24 -> 0 | I25: =H25*G25*E25 -> 0
A26: 12 | B26: ='Varrição Manual '!B25 -> Seguro de vida (por pessoa) | E26: 1 | G26: =G25 -> 82 | H26: ='Varrição Manual '!H25 -> 0 | I26: =H26*G26*E26 -> 0
A27: 13 | B27: ='Varrição Manual '!B26 -> Exames admissionais , demissionais e periódicos (por pessoa) | E27: 1 | G27: =G25 -> 82 | H27: ='Varrição Manual '!H26 -> 0 | I27: =E27*G27*H27 -> 0
A28: 14 | B28: ='Varrição Manual '!B27 -> Cota de aprendizagem (por pessoa ) | E28: 1 | G28: =G25 -> 82 | H28: ='Varrição Manual '!H27 -> 0 | I28: =E28*G28*H28 -> 0
A29: 15 | B29: ='Varrição Manual '!B28 -> Plano odontológico (por pessoa) | E29: 1 | G29: =G25 -> 82 | H29: ='Varrição Manual '!H28 -> 0 | I29: =E29*G29*H29 -> 0
A30: 16 | B30: ='Varrição Manual '!B29 -> Reserva de amparo ao trabalhador | C30: =C21 -> Agente de Limpeza e Conservação | D30: =D21 -> 0 | E30: 1 | G30: =G21 -> 70 | H30: =D30*1% -> 0 | I30: =G30*H30 -> 0
A31: 17 | B31: ='Varrição Manual '!B30 -> Reserva de amparo ao trabalhador | C31: =C22 -> Fiscal de Limpeza Pública | D31: =D22 -> 0 | E31: 1 | G31: =G22 -> 2 | H31: =D31*1% -> 0 | I31: =G31*H31 -> 0
A32: 18 | B32: ='Varrição Manual '!B31 -> Reserva de amparo ao trabalhador | C32: =C23 -> Motorista de caminhão (Categoria D) | D32: =D23 -> 0 | E32: 1 | G32: =G23 -> 9 | H32: =D32*1% -> 0 | I32: =G32*H32 -> 0
A33: 19 | B33: ='Varrição Manual '!B32 -> Reserva de amparo ao trabalhador | C33: =C24 -> Encarregado de Limpeza Urbana/Pública | D33: =D24 -> 0 | E33: 1 | G33: =G24 -> 1 | H33: =D33*1% -> 0 | I33: =G33*H33 -> 0
A34: SUB-TOTAL MENSAL | I34: =SUM(I15:I33) -> 0
A35: ITEM | B35: UNIFORMES / EPI´S / FERRAMENTAS | E35: Qtd. Por operário | G35: Nº OPERÁRIOS | H35: PREÇO UNIT. | I35: TOTAL
A36: 1 | B36: CONJUNTO DE CALÇA E CAMISA | E36: 6 | G36: =$G$15 -> 82 | H36: ='Varrição Manual '!H35 -> 0 | I36: =H36*G36*E36 -> 0
A37: 2 | B37: BOTA DE COURO | E37: 6 | G37: =$G$15 -> 82 | H37: ='Varrição Manual '!H36 -> 0 | I37: =H37*G37*E37 -> 0
A38: 3 | B38: LUVA PIGMENTADA | E38: 12 | G38: =F9 -> 70 | I38: =H38*G38*E38 -> 0
A39: 4 | B39: CAPA DE CHUVA | E39: 1 | G39: =G38 -> 70 | I39: =H39*G39*E39 -> 0
A40: 5 | B40: PROTETOR SOLAR FACIAL FATOR | E40: 12 | G40: =G38 -> 70 | I40: =H40*G40*E40 -> 0
A41: 6 | B41: MEIÃO DE LÃ (PARES) | E41: 2 | G41: =G38 -> 70 | I41: =H41*G41*E41 -> 0
...

Sheet Roçagem Mec
A1: Á
A2: Prefeitura de Várzea Grande
A3: Secretaria Municipal de Serviços Público e Mobilidade Urbana
A5: PLANILHA DE FORMAÇÃO DE PREÇOS
A6: =[2]Resumo!C10 -> Roçagem mecanizada
A7: MÃO DE OBRA
A8: ITEM | B8: FUNÇÃO | E8: UND | F8: QTD | G8: SALÁRIO (R$)+INSALUBRIDADE OU PERICULOSIDADE | H8: ENC.SOCIAIS(85,41%) | I8: TOTAL
A9: 1 | B9: Agente de conservação | E9: UND | F9: 4 | G9: ='Tabela de Salários '!F7 -> 0 | H9: =G9*85.41% -> 0 | I9: =(H9+G9)*F9 -> 0
A10: 2 | B10: Operador de Trator | E10: UND | F10: 2 | G10: ='Tabela de Salários '!F9 -> 0 | H10: =G10*85.41% -> 0 | I10: =(H10+G10)*F10 -> 0
A11: 3 | B11: Fiscal de Limpeza Pública | E11: UND | F11: 1 | G11: ='Tabela de Salários '!F11 -> 0 | H11: =G11*85.41% -> 0 | I11: =(H11+G11)*F11 -> 0
A12: SUB-TOTAL MENSAL | I12: =SUM(I9:I11) -> 0
A13: ÍTEM | B13: OUTROS BENEFÍCIOS | E13: Qtd Por operário | G13: Nº OPERÁRIOS | H13: PREÇO UNIT. | I13: TOTAL
A14: 1 | B14: Vale Alimentação | E14: 1 | G14: =F9+F10+F11 -> 7 | I14: =H14*G14*E14*0.95 -> 0
A15: 2 | B15: Vale Lanche | E15: 26 | G15: =F9+F10+F11 -> 7 | I15: =E15*G15*H15 -> 0
A16: 3 | B16: Vale Gás | E16: 1 | G16: =F9+F10+F11 -> 7 | I16: =E16*G16*H16 -> 0
A17: 4 | B17: Assiduidade | E17: 1 | G17: =F9+F10+F11 -> 7 | I17: =E17*G17*H17 -> 0
A18: 5 | B18: Bonificação de não Ausência | E18: 1 | G18: =G17 -> 7 | I18: =E18*G18*H18 -> 0
A19: 6 | B19: Auxilio Funeral | E19: 1 | G19: =F9+F10+F11 -> 7 | I19: =E19*G19*H19 -> 0
A20: 7 | B20: ='Equipe Volante '!B21 -> Vale transporte | C20: =B9 -> Agente de conservação | D20: ='Tabela de Salários '!C7 -> 0 | E20: =26*2 -> 52 | G20: =F9 -> 4 | I20: =G20*H20 -> 0
A21: 8 | B21: ='Equipe Volante '!B22 -> Vale transporte | C21: =B10 -> Operador de Trator | D21: ='Tabela de Salários '!C9 -> 0 | E21: =26*2 -> 52 | G21: =F10 -> 2 | I21: =G21*H21 -> 0
A22: 9 | B22: ='Equipe Volante '!B23 -> Vale transporte | C22: =B11 -> Fiscal de Limpeza Pública | D22: ='Tabela de Salários '!C11 -> 0 | E22: =26*2 -> 52 | G22: =F11 -> 1 | I22: =G22*H22 -> 0
A23: 10 | B23: ='Equipe Volante '!B25 -> Ppra/pcmso (por pessoa) | E23: 1 | G23: =F9+F10+F11 -> 7 | I23: =G23*H23 -> 0
A24: 11 | B24: ='Equipe Volante '!B26 -> Seguro de vida (por pessoa) | E24: 1 | G24: =F9+F10+F11 -> 7 | I24: =H24*G24*E24 -> 0
A25: 12 | B25: ='Equipe Volante '!B27 -> Exames admissionais , demissionais e periódicos (por pessoa) | E25: 1 | G25: =F9+F10+F11 -> 7 | I25: =E25*G25*H25 -> 0
A26: 13 | B26: ='Equipe Volante '!B28 -> Cota de aprendizagem (por pessoa ) | E26: 1 | G26: =F9+F10+F11 -> 7 | I26: =E26*G26*H26 -> 0
A27: 14 | B27: ='Equipe Volante '!B29 -> Plano odontológico (por pessoa) | E27: 1 | G27: =F9+F10+F11 -> 7 | I27: =E27*G27*H27 -> 0
A28: 15 | B28: ='Equipe Volante '!B30 -> Reserva de amparo ao trabalhador | C28: =B9 -> Agente de conservação | D28: =D20 -> 0 | E28: 1 | G28: =F9 -> 4 | I28: =G28*H28 -> 0
A29: 16 | B29: ='Equipe Volante '!B31 -> Reserva de amparo ao trabalhador | C29: =B10 -> Operador de Trator | D29: =D21 -> 0 | E29: 1 | G29: =F10 -> 2 | I29: =G29*H29 -> 0
A30: 17 | B30: ='Equipe Volante '!B32 -> Reserva de amparo ao trabalhador | C30: =B11 -> Fiscal de Limpeza Pública | D30: =D22 -> 0 | E30: 1 | G30: =F11 -> 1 | I30: =G30*H30 -> 0
A31: SUB-TOTAL MENSAL | I31: =SUM(I14:I30) -> 0
A32: ITEM | B32: UNIFORMES / EPI´S / FERRAMENTAS | E32: Qtd. Por operário | G32: Nº OPERÁRIOS | H32: PREÇO UNIT. | I32: TOTAL
A33: 1 | B33: CONJUNTO DE CALÇA E CAMISA | E33: 6 | G33: =F9+F10+F11 -> 7 | H33: ='Equipe Volante '!H36 -> 0 | I33: =H33*G33*E33 -> 0
A34: 2 | B34: BOTA DE COURO | E34: 6 | G34: =F9+F10+F11 -> 7 | I34: =H34*G34*E34 -> 0
A35: 3 | B35: ENXADA | E35: 12 | G35: =F9 -> 4 | I35: =H35*G35*E35 -> 0
A36: 4 | B36: LUVA PIGUIMENTADA | E36: =2*12 -> 24 | G36: =F9+F10+F11 -> 7 | I36: =H36*G36*E36 -> 0
A37: 5 | B37: CAPA DE CHUVA | E37: 2 | G37: =F9+F10+F11 -> 7 | I37: =H37*G37*E37 -> 0
A38: 6 | B38: PROTETOR SOLAR FACIAL FATOR 50 ( FRASCO DE 200 ml) | E38: 12 | G38: =F9+F10+F11 -> 7 | I38: =H38*G38*E38 -> 0
A39: 7 | B39: MEIÃO DE LÃ (PARES) | E39: 6 | G39: =F9+F10+F11 -> 7 | I39: =H39*G39*E39 -> 0
A40: 8 | B40: BONÉ LEGIONÁRIO | E40: 6 | G40: =F9+F10+F11 -> 7 | I40: =H40*G40*E40 -> 0
A41: 9 | B41: CONE DE SINALIZAÇÃO | E41: 6 | G41: =F9+F10+F11 -> 7 | I41: =H41*G41*E41 -> 0
...

Sheet Poda
A1: Á
A2: Prefeitura de Várzea Grande
A3: Secretaria Municipal de Serviços Público e Mobilidade Urbana
A5: PLANILHA DE FORMAÇÃO DE PREÇOS
A6: =[2]Resumo!C11 -> Poda de árvores e arbustos
A7: MÃO DE OBRA
A8: ITEM | B8: FUNÇÃO | E8: UND | F8: QTD | G8: SALÁRIO (R$)+INSALUBRIDADE OU PERICULOSIDADE | H8: ENC.SOCIAIS(85,41%) | I8: TOTAL
A9: 1 | B9: Podador de árvore | E9: UND | F9: 4 | G9: ='Tabela de Salários '!F24 -> 0 | H9: =G9*85.41% -> 0 | I9: =(H9+G9)*F9 -> 0
A10: 2 | B10: Encarregado de Limpeza Urbana/Pública | E10: UND | F10: 1 | G10: ='Tabela de Salários '!F16 -> 0 | H10: =G10*85.41% -> 0 | I10: =(H10+G10)*F10 -> 0
A11: 3 | B11: Motorista de caminhão (habilitação categoria D) | E11: UND | F11: 2 | G11: ='Tabela de Salários '!F12 -> 0 | H11: =G11*85.41% -> 0 | I11: =(H11+G11)*F11 -> 0
A12: 4 | B12: Engenheiro Agronomo ou Florestal | E12: UND | F12: 1 | I12: =(H12+G12)*F12 -> 0
A13: SUB-TOTAL MENSAL | I13: =SUM(I9:I12) -> 0
A14: ÍTEM | B14: OUTROS BENEFÍCIOS | E14: Qtd Por operário | G14: Nº OPERÁRIOS | H14: PREÇO UNIT. | I14: TOTAL
A15: 1 | B15: ='Varrição Mecanizada '!B14 -> Vale Alimentação | E15: 1 | G15: =+F9+F10+F11 -> 7 | H15: ='Varrição Mecanizada '!H14 -> 0 | I15: =H15*G15*E15*0.95 -> 0
A16: 2 | B16: ='Varrição Mecanizada '!B15 -> Vale Lanche | E16: 26 | G16: =G15 -> 7 | H16: ='Varrição Mecanizada '!H15 -> 0 | I16: =E16*G16*H16 -> 0
A17: 3 | B17: ='Varrição Mecanizada '!B16 -> Vale Gás | E17: 1 | G17: =G15 -> 7 | I17: =E17*G17*H17 -> 0
A18: 4 | B18: ='Varrição Mecanizada '!B17 -> Assiduidade | E18: 1 | G18: =G15 -> 7 | I18: =E18*G18*H18 -> 0
A19: 5 | B19: ='Varrição Mecanizada '!B18 -> Bonificação de não Ausência | E19: 1 | G19: =G18 -> 7 | I19: =E19*G19*H19 -> 0
A20: 6 | B20: ='Varrição Mecanizada '!B19 -> Auxilio Funeral | E20: 1 | G20: =G15 -> 7 | I20: =E20*G20*H20 -> 0
A21: 7 | B21: ='Varrição Mecanizada '!B20 -> Vale Transporte | C21: =B9 -> Podador de árvore | D21: ='Tabela de Salários '!C6 -> 0 | E21: =26*2 -> 52 | G21: =F9 -> 4 | I21: =G21*H21 -> 0
A22: 8 | B22: ='Varrição Mecanizada '!B21 -> Vale Transporte | C22: =B10 -> Encarregado de Limpeza Urbana/Pública | D22: ='Tabela de Salários '!F16 -> 0 | E22: =26*2 -> 52 | G22: =F10 -> 1 | I22: 0
A23: 9 | B23: ='Varrição Mecanizada '!B22 -> Vale Transporte | C23: =B11 -> Motorista de caminhão (habilitação categoria D) | D23: ='Tabela de Salários '!C12 -> 0 | E23: =26*2 -> 52 | G23: =F11 -> 2 | I23: =G23*H23 -> 0
A24: 10 | B24: vale transporte | C24: =B12 -> Engenheiro Agronomo ou Florestal | D24: =G12 -> 0 | E24: =26*2 -> 52 | G24: =F12 -> 1 | I24: =G24*H24 -> 0
A25: 10 | B25: ='Varrição Mecanizada '!B23 -> Ppra/pcmso (por pessoa) | E25: 1 | G25: =G15+F12 -> 8 | I25: =H25*G25*E25 -> 0
A26: 11 | B26: ='Varrição Mecanizada '!B24 -> Seguro de vida (por pessoa) | E26: 1 | G26: =G25 -> 8 | I26: =H26*G26*E26 -> 0
A27: 12 | B27: ='Varrição Mecanizada '!B25 -> Exames admissionais , demissionais e periódicos (por pessoa) | E27: 1 | G27: =G25 -> 8 | I27: =E27*G27*H27 -> 0
A28: 13 | B28: ='Varrição Mecanizada '!B26 -> Cota de aprendizagem (por pessoa ) | E28: 1 | G28: =G25 -> 8 | I28: =E28*G28*H28 -> 0
A29: 14 | B29: ='Varrição Mecanizada '!B27 -> Plano odontológico (por pessoa) | E29: 1 | G29: =G25 -> 8 | I29: =E29*G29*H29 -> 0
A30: 15 | B30: RESERVA DE AMPARO AO TRABALHADOR | C30: =B9 -> Podador de árvore | D30: =D21 -> 0 | E30: 1 | G30: =F9 -> 4 | I30: =G30*H30 -> 0
A31: 16 | B31: RESERVA DE AMPARO AO TRABALHADOR | C31: =B10 -> Encarregado de Limpeza Urbana/Pública | D31: =D22 -> 0 | E31: 1 | G31: =F10 -> 1 | I31: =G31*H31 -> 0
A32: 17 | B32: RESERVA DE AMPARO AO TRABALHADOR | C32: =B11 -> Motorista de caminhão (habilitação categoria D) | D32: =D23 -> 0 | E32: 1 | G32: =F11 -> 2 | I32: =G32*H32 -> 0
A33: 18 | B33: RESERVA DE AMPARO AO TRABALHADOR | C33: =B12 -> Engenheiro Agronomo ou Florestal | D33: =D24 -> 0 | E33: 1 | G33: =F12 -> 1 | I33: =G33*H33 -> 0
A34: SUB-TOTAL MENSAL | I34: =SUM(I15:I33) -> 0
A35: ITEM | B35: UNIFORMES / EPI´S / FERRAMENTAS | E35: Qtd. Por operário | G35: Nº OPERÁRIOS | H35: PREÇO UNIT. | I35: TOTAL
A36: 1 | B36: CONJUNTO DE CALÇA E CAMISA | E36: 6 | G36: =F9+F10+F11 -> 7 | I36: =H36*G36*E36 -> 0
A37: 2 | B37: BOTA DE COURO | E37: 6 | G37: =F9+F10+F11 -> 7 | I37: =H37*G37*E37 -> 0
A38: 3 | B38: AVENTAL DE RASPA | E38: 12 | G38: =F9 -> 4 | I38: =H38*G38*E38 -> 0
A39: 4 | B39: LUVA DE RASPA | E39: 18 | G39: =F9 -> 4 | I39: =H39*G39*E39 -> 0
A40: 5 | B40: FACÃO | E40: 6 | G40: =F9 -> 4 | I40: =H40*G40*E40 -> 0
A41: 6 | B41: LUVA PIGUIMENTADA | E41: 12 | G41: =G38 -> 4 | I41: =H41*G41*E41 -> 0
...

Sheet Fito
A1: Á
A2: Prefeitura de Várzea Grande
A3: Secretaria Municipal de Serviços Público e Mobilidade Urbana
A4: PLANILHA DE FORMAÇÃO DE PREÇOS
A5: =[2]Resumo!C12 -> Serviço fitossanitário em áreas verdes
A6: MÃO DE OBRA
A7: ITEM | B7: FUNÇÃO | E7: UND | F7: QTD | G7: SALÁRIO (R$)+INSALUBRIDADE OU PERICULOSIDADE | H7: ENC.SOCIAIS(85,41%) | I7: TOTAL
A8: 1 | B8: ='Tabela de Salários '!B7 -> Agente de Limpeza e Conservação | E8: UND | F8: 4 | H8: =G8*85.41% -> 0 | I8: =(H8+G8)*F8 -> 0
A9: 2 | B9: ='Tabela de Salários '!B23 -> Jardineiro | E9: UND | F9: 4 | H9: =G9*85.41% -> 0 | I9: =(H9+G9)*F9 -> 0
A10: 3 | B10: ='Tabela de Salários '!B11 -> Fiscal de Limpeza Pública | E10: UND | F10: 1 | H10: =G10*85.41% -> 0 | I10: =(H10+G10)*F10 -> 0
A11: 4 | B11: ='Tabela de Salários '!B12 -> Motorista de caminhão (Categoria D) | E11: UND | F11: 2 | H11: =G11*85.41% -> 0 | I11: =(H11+G11)*F11 -> 0
A12: SUB-TOTAL MENSAL | I12: =SUM(I8:I11) -> 0
A13: ÍTEM | B13: OUTROS BENEFÍCIOS | E13: Qtd Por operário | G13: Nº OPERÁRIOS | H13: PREÇO UNIT. | I13: TOTAL
A14: 1 | B14: =Poda!B15 -> Vale Alimentação | E14: 1 | G14: =+F8+F10+F11+F9 -> 11 | I14: =H14*G14*E14*0.95 -> 0
A15: 2 | B15: =Poda!B16 -> Vale Lanche | E15: 26 | G15: =+F8+F10+F11+F9 -> 11 | I15: =E15*G15*H15 -> 0
A16: 3 | B16: =Poda!B17 -> Vale Gás | E16: 1 | G16: =+F8+F10+F11+F9 -> 11 | I16: =E16*G16*H16 -> 0
A17: 4 | B17: =Poda!B18 -> Assiduidade | E17: 1 | G17: =+F8+F10+F11+F9 -> 11 | I17: =E17*G17*H17 -> 0
A18: 5 | B18: =Poda!B19 -> Bonificação de não Ausência | E18: 1 | G18: =G17 -> 11 | I18: =E18*G18*H18 -> 0
A19: 6 | B19: =Poda!B20 -> Auxilio Funeral | E19: 1 | G19: =+F8+F10+F11+F9 -> 11 | I19: =E19*G19*H19 -> 0
A20: 7 | B20: VALE TRANSPORTE | C20: =B8 -> Agente de Limpeza e Conservação | D20: ='Tabela de Salários '!C7 -> 0 | E20: =26*2 -> 52 | G20: =F8 -> 4 | I20: =G20*H20 -> 0
A21: 8 | B21: VALE TRANSPORTE | C21: =B9 -> Jardineiro | D21: ='Tabela de Salários '!C23 -> 0 | E21: =26*2 -> 52 | G21: =F9 -> 4 | I21: =G21*H21 -> 0
A22: 9 | B22: VALE TRANSPORTE | C22: =B10 -> Fiscal de Limpeza Pública | D22: ='Tabela de Salários '!C11 -> 0 | E22: =26*2 -> 52 | G22: =F10 -> 1 | I22: =G22*H22 -> 0
A23: 10 | B23: VALE TRANSPORTE | C23: =B11 -> Motorista de caminhão (Categoria D) | D23: ='Tabela de Salários '!C12 -> 0 | E23: =26*2 -> 52 | G23: =F11 -> 2 | I23: =G23*H23 -> 0
A24: 11 | B24: ='Varrição Mecanizada '!B23 -> Ppra/pcmso (por pessoa) | E24: 1 | G24: =F8+F10+F11+F9 -> 11 | I24: =H24*G24*E24 -> 0
A25: 12 | B25: ='Varrição Mecanizada '!B24 -> Seguro de vida (por pessoa) | E25: 1 | G25: =F8+F10+F11+F9 -> 11 | I25: =H25*G25*E25 -> 0
A26: 13 | B26: ='Varrição Mecanizada '!B25 -> Exames admissionais , demissionais e periódicos (por pessoa) | E26: 1 | G26: =F8+F10+F11+F9 -> 11 | I26: =E26*G26*H26 -> 0
A27: 14 | B27: ='Varrição Mecanizada '!B26 -> Cota de aprendizagem (por pessoa ) | E27: 1 | G27: =F8+F10+F11+F9 -> 11 | I27: =E27*G27*H27 -> 0
A28: 15 | B28: ='Varrição Mecanizada '!B27 -> Plano odontológico (por pessoa) | E28: 1 | G28: =F8+F10+F11+F9 -> 11 | I28: =E28*G28*H28 -> 0
A29: 16 | B29: RESERVA DE AMPARO AO TRABALHADOR | C29: =B8 -> Agente de Limpeza e Conservação | D29: =D20 -> 0 | E29: 1 | G29: =F8 -> 4 | I29: =G29*H29 -> 0
A30: 17 | B30: RESERVA DE AMPARO AO TRABALHADOR | C30: =B9 -> Jardineiro | D30: =D21 -> 0 | E30: 1 | G30: =F9 -> 4 | I30: =G30*H30 -> 0
A31: 18 | B31: RESERVA DE AMPARO AO TRABALHADOR | C31: =B10 -> Fiscal de Limpeza Pública | D31: =D22 -> 0 | E31: 1 | G31: =F10 -> 1 | I31: =G31*H31 -> 0
A32: 19 | B32: RESERVA DE AMPARO AO TRABALHADOR | C32: =B11 -> Motorista de caminhão (Categoria D) | D32: =D23 -> 0 | E32: 1 | G32: =F11 -> 2 | I32: =G32*H32 -> 0
A33: SUB-TOTAL MENSAL | I33: =SUM(I14:I32) -> 0
A34: ITEM | B34: UNIFORMES / EPI´S / FERRAMENTAS | E34: Qtd. Por operário | G34: Nº OPERÁRIOS | H34: PREÇO UNIT. | I34: TOTAL
A35: 1 | B35: CONJUNTO DE CALÇA E CAMISA | E35: 6 | G35: =G14 -> 11 | I35: =H35*G35*E35 -> 0
A36: 2 | B36: BOTA DE COURO | E36: 6 | G36: =G14 -> 11 | I36: =H36*G36*E36 -> 0
A37: 3 | B37: AVENTAL DE RASPA | E37: 12 | G37: =+F8+F9 -> 8 | I37: =H37*G37*E37 -> 0
A38: 4 | B38: LUVA DE RASPA | E38: 18 | G38: =G37 -> 8 | I38: =H38*G38*E38 -> 0
A39: 5 | B39: FACÃO | E39: 6 | G39: =F9 -> 4 | I39: =H39*G39*E39 -> 0
A40: 6 | B40: LUVA PIGUIMENTADA | E40: =2*12 -> 24 | G40: =F8 -> 4 | I40: =H40*G40*E40 -> 0
...

Sheet Pintura de meio 
A1: Á
A2: Prefeitura de Várzea Grande
A3: Secretaria Municipal de Serviços Público e Mobilidade Urbana
A5: PLANILHA DE FORMAÇÃO DE PREÇOS
A6: =Geral!C18 -> Pintura de meio-fio
A7: MÃO DE OBRA
A8: ITEM | B8: FUNÇÃO | E8: UND | F8: QTD | G8: SALÁRIO (R$)+INSALUBRIDADE OU PERICULOSIDADE | H8: ENC.SOCIAIS(85,41%) | I8: TOTAL
A9: 1 | B9: Auxiliar de pintura de meio fio | E9: UND | F9: 12 | G9: ='Tabela de Salários '!F8 -> 0 | H9: =G9*85.41% -> 0 | I9: =(H9+G9)*F9 -> 0
A10: 2 | B10: Encarregado | E10: UND | F10: 1 | G10: ='Tabela de Salários '!F16 -> 0 | H10: =G10*85.41% -> 0 | I10: =(H10+G10)*F10 -> 0
A11: 4 | B11: Motorista de caminhão (habilitação categoria D) | E11: UND | F11: 1 | G11: ='Tabela de Salários '!F12 -> 0 | H11: =G11*85.41% -> 0 | I11: =(H11+G11)*F11 -> 0
A12: SUB-TOTAL MENSAL | I12: =SUM(I9:I11) -> 0
A13: ÍTEM | B13: OUTROS BENEFÍCIOS | E13: Qtd Por operário | G13: Nº OPERÁRIOS | H13: PREÇO UNIT. | I13: TOTAL
A14: 1 | B14: =Fito!B14 -> Vale Alimentação | E14: 1 | G14: =$F$9+$F$10+$F$11 -> 14 | H14: =Fito!H14 -> 0 | I14: =H14*G14*E14*0.95 -> 0
A15: 2 | B15: =Fito!B15 -> Vale Lanche | E15: 26 | G15: =$F$9+$F$10+$F$11 -> 14 | H15: =Fito!H15 -> 0 | I15: =E15*G15*H15 -> 0
A16: 3 | B16: =Fito!B16 -> Vale Gás | E16: 1 | G16: =$F$9+$F$10+$F$11 -> 14 | H16: =Fito!H16 -> 0 | I16: =E16*G16*H16 -> 0
A17: 4 | B17: =Fito!B17 -> Assiduidade | E17: 1 | G17: =$F$9+$F$10+$F$11 -> 14 | H17: =Fito!H17 -> 0 | I17: =E17*G17*H17 -> 0
A18: 5 | B18: =Fito!B18 -> Bonificação de não Ausência | E18: 1 | G18: =$F$9+$F$10+$F$11 -> 14 | H18: =Fito!H18 -> 0 | I18: =E18*G18*H18 -> 0
A19: 6 | B19: =Fito!B19 -> Auxilio Funeral | E19: 1 | G19: =$F$9+$F$10+$F$11 -> 14 | H19: =Fito!H19 -> 0 | I19: =E19*G19*H19 -> 0
A20: 7 | B20: Vale Transporte | C20: =B9 -> Auxiliar de pintura de meio fio | D20: ='Tabela de Salários '!C8 -> 0 | E20: =26*2 -> 52 | G20: =F9 -> 12 | I20: =G20*H20 -> 0
A21: 8 | B21: =B20 -> Vale Transporte | C21: =B10 -> Encarregado | D21: ='Tabela de Salários '!C16 -> 0 | E21: =26*2 -> 52 | G21: =F10 -> 1 | I21: 0
A22: 10 | B22: =B21 -> Vale Transporte | C22: =B11 -> Motorista de caminhão (habilitação categoria D) | D22: ='Tabela de Salários '!C12 -> 0 | E22: =26*2 -> 52 | G22: =F11 -> 1 | I22: =G22*H22 -> 0
A23: 11 | B23: =Fito!B24 -> Ppra/pcmso (por pessoa) | E23: 1 | G23: =$F$9+$F$10+$F$11 -> 14 | I23: =H23*G23*E23 -> 0
A24: 12 | B24: =Fito!B25 -> Seguro de vida (por pessoa) | E24: 1 | G24: =$F$9+$F$10+$F$11 -> 14 | I24: =H24*G24*E24 -> 0
A25: 13 | B25: =Fito!B26 -> Exames admissionais , demissionais e periódicos (por pessoa) | E25: 1 | G25: =$F$9+$F$10+$F$11 -> 14 | H25: =Fito!H26 -> 0 | I25: =E25*G25*H25 -> 0
A26: 14 | B26: =Fito!B27 -> Cota de aprendizagem (por pessoa ) | E26: 1 | G26: =$F$9+$F$10+$F$11 -> 14 | H26: =Fito!H27 -> 0 | I26: =E26*G26*H26 -> 0
A27: 15 | B27: =Fito!B28 -> Plano odontológico (por pessoa) | E27: 1 | G27: =$F$9+$F$10+$F$11 -> 14 | H27: =Fito!H28 -> 0 | I27: =E27*G27*H27 -> 0
A28: 16 | B28: RESERVA DE AMPARO AO TRABALHADOR | C28: =C20 -> Auxiliar de pintura de meio fio | D28: =D20 -> 0 | E28: 1 | G28: =F9 -> 12 | H28: =D28*1% -> 0 | I28: =G28*H28 -> 0
A29: 17 | B29: RESERVA DE AMPARO AO TRABALHADOR | C29: =C21 -> Encarregado | D29: =D21 -> 0 | E29: 1 | G29: =F10 -> 1 | H29: =D29*1% -> 0 | I29: =G29*H29 -> 0
A30: 19 | B30: RESERVA DE AMPARO AO TRABALHADOR | C30: =C22 -> Motorista de caminhão (habilitação categoria D) | D30: =D22 -> 0 | E30: 1 | G30: =F11 -> 1 | H30: =D30*1% -> 0 | I30: =G30*H30 -> 0
A31: SUB-TOTAL MENSAL | I31: =SUM(I14:I30) -> 0
A32: ITEM | B32: UNIFORMES / EPI´S / FERRAMENTAS | E32: Qtd. Por operário | G32: Nº OPERÁRIOS | H32: PREÇO UNIT. | I32: TOTAL
A33: 1 | B33: CONJUNTO DE CALÇA E CAMISA | E33: 6 | G33: =$F$9+$F$10+$F$11 -> 14 | I33: =H33*G33*E33 -> 0
A34: 2 | B34: BOTA DE COURO | E34: 6 | G34: =$F$9+$F$10+$F$11 -> 14 | I34: =H34*G34*E34 -> 0
A35: 3 | B35: LUVA PIGUIMENTADA | E35: =2*12 -> 24 | G35: =F9 -> 12 | I35: =H35*G35*E35 -> 0
A36: 4 | B36: CAPA DE CHUVA | E36: 2 | G36: 15 | I36: =H36*G36*E36 -> 0
A37: 5 | B37: PROTETOR SOLAR FACIAL FATOR 50 ( FRASCO DE 200 ml) | E37: 12 | G37: =G35 -> 12 | I37: =H37*G37*E37 -> 0
A38: 6 | B38: MEIÃO DE LÃ (PARES) | E38: 6 | G38: =G35 -> 12 | I38: =H38*G38*E38 -> 0
A39: 7 | B39: BONÉ LEGIONÁRIO | E39: 6 | G39: =G38 -> 12 | I39: =H39*G39*E39 -> 0
A40: 8 | B40: CONE DE SINALIZAÇÃO | E40: 6 | G40: =G39 -> 12 | I40: =H40*G40*E40 -> 0
A41: 9 | B41: CARRINHO DE POLIETILENO, 120 L | E41: 1 | G41: =G40 -> 12 | I41: =H41*G41*E41 -> 0
...

Sheet Admin. Local
A1: Á
A2: Prefeitura de Várzea Grande
A3: Secretaria Municipal de Serviços Público e Mobilidade Urbana
A5: PLANILHA DE FORMAÇÃO DE PREÇOS
A6: =[2]Resumo!C14 -> Administração local
A7: MÃO DE OBRA
A8: ITEM | B8: FUNÇÃO | E8: UND | F8: QTD | G8: SALÁRIO (R$)+INSALUBRIDADE OU PERICULOSIDADE | H8: ENC.SOCIAIS(85,41%) | I8: TOTAL
A9: 1 | B9: Gerente Operacional | E9: UND | F9: 1 | G9: ='Tabela de Salários '!F13 -> 0 | H9: =G9*85.41% -> 0 | I9: =(H9+G9)*F9 -> 0
A10: 2 | B10: Gerente Administrativo | E10: UND | F10: 1 | G10: ='Tabela de Salários '!F14 -> 0 | H10: =G10*85.41% -> 0 | I10: =(H10+G10)*F10 -> 0
A11: 3 | B11: Gerente de Recursos Humanos | E11: UND | F11: 1 | G11: ='Tabela de Salários '!F15 -> 0 | H11: =G11*85.41% -> 0 | I11: =(H11+G11)*F11 -> 0
A12: 4 | B12: Auxiliar administrativo | E12: UND | F12: 4 | G12: ='Tabela de Salários '!F17 -> 0 | H12: =G12*85.41% -> 0 | I12: =(H12+G12)*F12 -> 0
A13: 5 | B13: Técnico Segurança Trabalho | E13: UND | F13: 1 | G13: ='Tabela de Salários '!F18 -> 0 | H13: =G13*85.41% -> 0 | I13: =(H13+G13)*F13 -> 0
A14: 6 | B14: Vigia e/ou porteiro (desarmada) (12X36) diurno | E14: UND | F14: 2 | G14: ='Tabela de Salários '!F19 -> 0 | H14: =G14*85.41% -> 0 | I14: =(H14+G14)*F14 -> 0
A15: 7 | B15: Vigia e/ou porteiro (desarmada) (12X36) norturno | E15: UND | F15: 2 | G15: ='Tabela de Salários '!F20 -> 0 | H15: =G15*85.41% -> 0 | I15: =(H15+G15)*F15 -> 0
A16: 8 | B16: Lavador de Veículos | E16: UND | F16: 2 | G16: ='Tabela de Salários '!F21 -> 0 | H16: =G16*85.41% -> 0 | I16: =(H16+G16)*F16 -> 0
A17: 9 | B17: Mecânico de manutenção de automóveis (carga leve ou pesada) | E17: UND | F17: 1 | G17: ='Tabela de Salários '!F22 -> 0 | H17: =G17*85.41% -> 0 | I17: =(H17+G17)*F17 -> 0
A18: SUB-TOTAL MENSAL | I18: =SUM(I9:I17) -> 0
A19: ÍTEM | B19: OUTROS BENEFÍCIOS | E19: Qtd Por operário | G19: Nº OPERÁRIOS | H19: PREÇO UNIT. | I19: TOTAL
A20: 1 | B20: ='Pintura de meio '!B14 -> Vale Alimentação | E20: 1 | G20: =SUM(F9:F17) -> 15 | I20: =H20*G20*E20*0.95 -> 0
A21: 2 | B21: ='Pintura de meio '!B15 -> Vale Lanche | E21: 22 | G21: =SUM(F9:F17) -> 15 | I21: =E21*G21*H21 -> 0
A22: 3 | B22: ='Pintura de meio '!B16 -> Vale Gás | E22: 1 | G22: =SUM(F9:F17) -> 15 | I22: =E22*G22*H22 -> 0
A23: 4 | B23: ='Pintura de meio '!B17 -> Assiduidade | E23: 1 | G23: =SUM(F9:F17) -> 15 | I23: =E23*G23*H23 -> 0
A24: 5 | B24: ='Pintura de meio '!B18 -> Bonificação de não Ausência | E24: 1 | G24: =G23 -> 15 | I24: =E24*G24*H24 -> 0
A25: 6 | B25: ='Pintura de meio '!B19 -> Auxilio Funeral | E25: 1 | G25: =G24 -> 15 | I25: =E25*G25*H25 -> 0
A26: 7 | B26: ='Pintura de meio '!B20 -> Vale Transporte | C26: =B9 -> Gerente Operacional | D26: ='Tabela de Salários '!C13 -> 0 | E26: 44 | G26: =F9 -> 1 | I26: =G26*H26 -> 0
A27: 8 | B27: ='Pintura de meio '!B20 -> Vale Transporte | C27: =B10 -> Gerente Administrativo | D27: ='Tabela de Salários '!C14 -> 0 | E27: 44 | G27: =F10 -> 1 | I27: =G27*H27 -> 0
A28: 9 | B28: =B26 -> Vale Transporte | C28: =B11 -> Gerente de Recursos Humanos | D28: ='Tabela de Salários '!C15 -> 0 | E28: 44 | G28: =F11 -> 1 | I28: =G28*H28 -> 0
A29: 10 | B29: =B28 -> Vale Transporte | C29: =B12 -> Auxiliar administrativo | D29: ='Tabela de Salários '!C17 -> 0 | E29: 44 | G29: =F12 -> 4 | I29: =G29*H29 -> 0
A30: 11 | B30: =B29 -> Vale Transporte | C30: =B13 -> Técnico Segurança Trabalho | D30: ='Tabela de Salários '!C18 -> 0 | E30: 44 | G30: =F13 -> 1 | I30: =G30*H30 -> 0
A31: 12 | B31: =B30 -> Vale Transporte | C31: =B14 -> Vigia e/ou porteiro (desarmada) (12X36) diurno | D31: ='Tabela de Salários '!C19 -> 0 | E31: 44 | G31: =F14 -> 2 | I31: =G31*H31 -> 0
A32: 13 | B32: =B31 -> Vale Transporte | C32: =B15 -> Vigia e/ou porteiro (desarmada) (12X36) norturno | D32: ='Tabela de Salários '!C20 -> 0 | E32: 44 | G32: =F15 -> 2 | I32: =G32*H32 -> 0
A33: 14 | B33: =B32 -> Vale Transporte | C33: =B16 -> Lavador de Veículos | D33: ='Tabela de Salários '!C21 -> 0 | E33: 44 | G33: =F16 -> 2 | I33: =G33*H33 -> 0
A34: 15 | B34: =B33 -> Vale Transporte | C34: =B17 -> Mecânico de manutenção de automóveis (carga leve ou pesada) | D34: ='Tabela de Salários '!C22 -> 0 | E34: 44 | G34: =F17 -> 1 | I34: =G34*H34 -> 0
A35: 16 | B35: ='Pintura de meio '!B23 -> Ppra/pcmso (por pessoa) | E35: 1 | G35: =SUM(F9:F17) -> 15 | I35: =H35*G35*E35 -> 0
A36: 17 | B36: ='Pintura de meio '!B24 -> Seguro de vida (por pessoa) | E36: 1 | G36: =G35 -> 15 | I36: =H36*G36*E36 -> 0
A37: 18 | B37: ='Pintura de meio '!B25 -> Exames admissionais , demissionais e periódicos (por pessoa) | E37: 1 | G37: =G35 -> 15 | I37: =E37*G37*H37 -> 0
A38: 19 | B38: ='Pintura de meio '!B26 -> Cota de aprendizagem (por pessoa ) | E38: 1 | G38: =G35 -> 15 | I38: =E38*G38*H38 -> 0
A39: 20 | B39: ='Pintura de meio '!B27 -> Plano odontológico (por pessoa) | E39: 1 | G39: =G35 -> 15 | I39: =E39*G39*H39 -> 0
A40: 21 | B40: RESERVA DE AMPARO AO TRABALHADOR | C40: =B9 -> Gerente Operacional | D40: =D26 -> 0 | E40: 1 | G40: =F9 -> 1 | I40: =G40*H40 -> 0
A41: 22 | B41: RESERVA DE AMPARO AO TRABALHADOR | C41: =B10 -> Gerente Administrativo | D41: =D27 -> 0 | E41: 1 | G41: =F10 -> 1 | I41: =G41*H41 -> 0
...

Sheet Van
A1: Á
A2: Prefeitura de Várzea Grande
A3: Secretaria Municipal de Serviços Público e Mobilidade Urbana
A5: PLANILHA DE CUSTO COM VEICULOS
A6: I - CUSTOS DIRETOS
A7: ESPECIFICAÇÃO | E7: VALOR MENSAL | G7: VALOR ANUAL
A8: 01- Depreciação | G8: =E8*12 -> 0
A9: 02 -Licenciamento | G9: =E9*12 -> 0
A10: 03 -Seguro total | G10: =E10*12 -> 0
A11: 04 -Manutenção | G11: =E11*12 -> 0
A12: 05 -Combustível | G12: =E12*12 -> 0
A13: 06 -Lubrificante | G13: =E13*12 -> 0
A14: 07- Pneus | G14: =E14*12 -> 0
A15: 08- Limpeza | G15: =E15*12 -> 0
A16: TOTAL | E16: =SUM(E8:F15) -> 0 | G16: =E16*12 -> 0
A17: LOCAÇÃO MENSAL DE VEÍCULO UTILITÁRIO TIPO VAN
A18: 01 - DEPRECIAÇÃO
A19: ITEM | F19: VALOR
A20: 01 - Aquisição do Bem (R$)
A21: 02 - Vida Util (meses) | F21: 48
A22: 03 - Recuperação do Bem na Venda (%) | F22: 0.2
A23: Custo Mensal com Depreciação (R$) | F23: =(F20-(F20*F22))/F21 -> 0
A25: 02 - LICENCIAMENTO
A26: ITEM | F26: VALOR
A27: 01 - Taxa mensal (%) | F27: 1
A28: Custo Mensal com Licenciamento (R$) | F28: =F20*F27% -> 0
A30: 03 - SEGUROS
A31: ITEM | F31: VALOR
A32: 01 - Taxa de risco anual (%) | F32: 3
A33: Custo Mensal com Seguros (R$) | F33: =F20*F32%/(12) -> 0
A35: 04 - MANUTENÇÃO
A36: ITEM | F36: VALOR
A37: 01 - Taxa mensal de manutenção sobre o valor da aquisicação (%) | F37: 1.5
A38: Custo Mensal com Manutenção (R$) | F38: =F20*F37% -> 0
A39: 05 - COMBUSTÍVEL
A40: ITEM | F40: VALOR
A41: 01 - Franquia (KM livre) / estimado mês (Km livre)
A42: 02 - Preço do litro do combustível (R$) | F42: 6.79
A43: 03 - Quilometragem Rodada por litro (Km/l) | F43: 8
A44: Custo Mensal com Combustível (R$) | F44: =F42/F43*F41 -> 0
...

Sheet Trator com roçadeira acoplada 
A1: Á
A2: Prefeitura de Várzea Grande
A3: Secretaria Municipal de Serviços Público e Mobilidade Urbana
A5: PLANILHA DE CUSTO COM VEICULOS
A6: I - CUSTOS DIRETOS
A7: ESPECIFICAÇÃO | E7: VALOR MENSAL | G7: VALOR ANUAL
A8: 01- Depreciação | G8: =E8*12 -> 0
A9: 02 -Licenciamento | G9: =E9*12 -> 0
A10: 03 -Seguro total | G10: =E10*12 -> 0
A11: 04 -Manutenção | G11: =E11*12 -> 0
A12: 05 -Combustível | G12: =E12*12 -> 0
A13: 06 -Lubrificante | G13: =E13*12 -> 0
A14: 07- Pneus | G14: =E14*12 -> 0
A15: 08- Limpeza | G15: =E15*12 -> 0
A16: TOTAL | E16: =ROUND((SUM(E8:F15)),2) -> 0 | G16: =E16*12 -> 0
A17: LOCAÇÃO DE VEICULO TIPO TRATOR COM VARREDEIRA ACOPLADA
A18: 01 - DEPRECIAÇÃO
A19: ITEM | F19: VALOR
A20: 01 - Aquisição do Bem (R$)
A21: 02 - Vida Util (meses) | F21: 48
A22: 03 - Recuperação do Bem na Venda (%) | F22: 0.2
A23: Custo Mensal com Depreciação (R$) | F23: =(F20-(F20*F22))/F21 -> 0
A25: 02 - LICENCIAMENTO
A26: ITEM | F26: VALOR
A27: 01 - Taxa mensal (%) | F27: =5/12 -> 0.41666667
A28: Custo Mensal com Licenciamento (R$) | F28: =F20*F27% -> 0
A30: 03 - SEGUROS
A31: ITEM | F31: VALOR
A32: 01 - Taxa de risco anual (%) | F32: 2
A33: Custo Mensal com Seguros (R$) | F33: =F20*F32%/(12) -> 0
A35: 04 - MANUTENÇÃO
A36: ITEM | F36: VALOR
A37: 01 - Taxa mensal de manutenção sobre o valor da aquisicação (%) | F37: 2
A38: Custo Mensal com Manutenção (R$) | F38: =F20*F37% -> 0
A39: 05 - COMBUSTÍVEL
A40: ITEM | F40: VALOR
A41: 01 - Franquia (KM livre) / estimado mês (Km livre)
A42: 02 - Preço do litro do combustível (R$)
A43: 03 - Quilometragem Rodada por litro (Km/l)
A44: Custo Mensal com Combustível (R$) | F44: =F42/F43*F41 -> #DIV/0!
...

Sheet Caminhão Caçamba
A1: Á
A2: Prefeitura de Várzea Grande
A3: Secretaria Municipal de Serviços Público e Mobilidade Urbana
A5: PLANILHA DE CUSTO COM VEICULOS
A6: I - CUSTOS DIRETOS
A7: ESPECIFICAÇÃO | E7: VALOR MENSAL | G7: VALOR ANUAL
A8: 01- Depreciação | G8: =E8*12 -> 0
A9: 02 -Licenciamento | G9: =E9*12 -> 0
A10: 03 -Seguro total | G10: =E10*12 -> 0
A11: 04 -Manutenção | G11: =E11*12 -> 0
A12: 05 -Combustível | G12: =E12*12 -> 0
A13: 06 -Lubrificante | G13: =E13*12 -> 0
A14: 07- Pneus | G14: =E14*12 -> 0
A15: 08- Limpeza | G15: =E15*12 -> 0
A16: TOTAL | E16: =ROUND((SUM(E8:F15)),2) -> 0 | G16: =E16*12 -> 0
A17: LOCAÇÃO DE VEICULO TIPO CAMINHAO CAÇAMBA
A18: 01 - DEPRECIAÇÃO
A19: ITEM | F19: VALOR
A20: 01 - Aquisição do Bem (R$)
A21: 02 - Vida Util (meses) | F21: 48
A22: 03 - Recuperação do Bem na Venda (%) | F22: 0.2
A23: Custo Mensal com Depreciação (R$) | F23: =(F20-(F20*F22))/F21 -> 0
A25: 02 - LICENCIAMENTO
A26: ITEM | F26: VALOR
A27: 01 - Taxa mensal (%) | F27: 1.5
A28: Custo Mensal com Licenciamento (R$) | F28: =F20*F27% -> 0
A30: 03 - SEGUROS
A31: ITEM | F31: VALOR
A32: 01 - Taxa de risco anual (%) | F32: 1.5
A33: Custo Mensal com Seguros (R$) | F33: =F20*F32%/(12) -> 0
A35: 04 - MANUTENÇÃO
A36: ITEM | F36: VALOR
A37: 01 - Taxa mensal de manutenção sobre o valor da aquisicação (%) | F37: 1
A38: Custo Mensal com Manutenção (R$) | F38: =F20*F37% -> 0
A39: 05 - COMBUSTÍVEL
A40: ITEM | F40: VALOR
A41: 01 - Franquia (KM livre) / estimado mês (Km livre)
A42: 02 - Preço do litro do combustível (R$)
A43: 03 - Quilometragem Rodada por litro (Km/l)
A44: Custo Mensal com Combustível (R$) | F44: =F42/F43*F41 -> #DIV/0!
...

Sheet Caminhão carroceria
A1: Á
A2: Prefeitura de Várzea Grande
A3: Secretaria Municipal de Serviços Público e Mobilidade Urbana
A5: PLANILHA DE CUSTO COM VEICULOS
A6: I - CUSTOS DIRETOS
A7: ESPECIFICAÇÃO | E7: VALOR MENSAL | G7: VALOR ANUAL
A8: 01- Depreciação | G8: =E8*12 -> 0
A9: 02 -Licenciamento | G9: =E9*12 -> 0
A10: 03 -Seguro total | G10: =E10*12 -> 0
A11: 04 -Manutenção | G11: =E11*12 -> 0
A12: 05 -Combustível | G12: =E12*12 -> 0
A13: 06 -Lubrificante | G13: =E13*12 -> 0
A14: 07- Pneus | G14: =E14*12 -> 0
A15: 08- Limpeza | G15: =E15*12 -> 0
A16: TOTAL | E16: =SUM(E8:F15) -> 0 | G16: =E16*12 -> 0
A17: LOCAÇÃO DE VEICULO TIPO CAMINHÃO CARROCERIA DE MADEIRA TIPO TOCO
A18: 01 - DEPRECIAÇÃO
A19: ITEM | F19: VALOR
A20: 01 - Aquisição do Bem (R$)
A21: 02 - Vida Util (meses)
A22: 03 - Recuperação do Bem na Venda (%)
A23: Custo Mensal com Depreciação (R$) | F23: =(F20-(F20*F22))/F21 -> #DIV/0!
A25: 02 - LICENCIAMENTO
A26: ITEM | F26: VALOR
A27: 01 - Taxa mensal (%)
A28: Custo Mensal com Licenciamento (R$) | F28: =F20*F27% -> 0
A30: 03 - SEGUROS
A31: ITEM | F31: VALOR
A32: 01 - Taxa de risco anual (%)
A33: Custo Mensal com Seguros (R$) | F33: =F20*F32%/(12) -> 0
A35: 04 - MANUTENÇÃO
A36: ITEM | F36: VALOR
A37: 01 - Taxa mensal de manutenção sobre o valor da aquisicação (%)
A38: Custo Mensal com Manutenção (R$) | F38: =F20*F37% -> 0
A39: 05 - COMBUSTÍVEL
A40: ITEM | F40: VALOR
A41: 01 - Franquia (KM livre) / estimado mês (Km livre)
A42: 02 - Preço do litro do combustível (R$)
A43: 03 - Quilometragem Rodada por litro (Km/l)
A44: Custo Mensal com Combustível (R$) | F44: =F42/F43*F41 -> #DIV/0!
...

Sheet Veiculo Utilitário
A1: Á
A2: Prefeitura de Várzea Grande
A3: Secretaria Municipal de Serviços Público e Mobilidade Urbana
A5: PLANILHA DE CUSTO COM VEICULOS
A6: I - CUSTOS DIRETOS
A7: ESPECIFICAÇÃO | E7: VALOR MENSAL | G7: VALOR ANUAL
A8: 01- Depreciação | G8: =E8*12 -> 0
A9: 02 -Licenciamento | G9: =E9*12 -> 0
A10: 03 -Seguro total | G10: =E10*12 -> 0
A11: 04 -Manutenção | G11: =E11*12 -> 0
A12: 05 -Combustível | G12: =E12*12 -> 0
A13: 06 -Lubrificante | G13: =E13*12 -> 0
A14: 07- Pneus | G14: =E14*12 -> 0
A15: 08- Limpeza | G15: =E15*12 -> 0
A16: TOTAL | E16: =SUM(E8:F15) -> 0 | G16: =E16*12 -> 0
A17: LOCAÇÃO MENSAL DE VEÍCULO UTILITÁRIO TIPO PASSEIO
A18: 01 - DEPRECIAÇÃO
A19: ITEM | F19: VALOR
A20: 01 - Aquisição do Bem (R$)
A21: 02 - Vida Util (meses)
A22: 03 - Recuperação do Bem na Venda (%)
A23: Custo Mensal com Depreciação (R$) | F23: =(F20-(F20*F22))/F21 -> #DIV/0!
A25: 02 - LICENCIAMENTO
A26: ITEM | F26: VALOR
A27: 01 - Taxa mensal (%)
A28: Custo Mensal com Licenciamento (R$) | F28: =F20*F27% -> 0
A30: 03 - SEGUROS
A31: ITEM | F31: VALOR
A32: 01 - Taxa de risco anual (%) | F32: 1
A33: Custo Mensal com Seguros (R$) | F33: =F20*F32%/(12) -> 0
A35: 04 - MANUTENÇÃO
A36: ITEM | F36: VALOR
A37: 01 - Taxa mensal de manutenção sobre o valor da aquisicação (%)
A38: Custo Mensal com Manutenção (R$) | F38: =F20*F37% -> 0
A39: 05 - COMBUSTÍVEL
A40: ITEM | F40: VALOR
A41: 01 - Franquia (KM livre) / estimado mês (Km livre)
A42: 02 - Preço do litro do combustível (R$) gasolina
A43: 03 - Quilometragem Rodada por litro (Km/l)
A44: Custo Mensal com Combustível (R$)
...

Sheet Fator Referencial
A1: Á
A2: Prefeitura de Várzea Grande
A3: Secretaria Municipal de Serviços Público e Mobilidade Urbana
A4: PLANILHA DE BDI
A5: ITEM DO B.D.I. | B5: PERCENTUAL SOBRE O CUSTO DIRETO | C5: PERCENTUAL SOBRE O PREÇO DE VENDA
A6: ADMINISTRAÇÃO CENTRAL
A7: DESPESAS FINANCEIRAS
A8: RISCO, SEGURO E GARANTIA
A9: PIS
A10: ISSQN
A11: COFINS
A12: LUCRO LÍQUIDO PREVISTO | C12: -
A13: TOTAL DO DO B.D.I. | D13: =(((1+B6/100)*(1+B7/100)*(1+B8/100)*(1+B12/100))/(1-(SUM(C9:C11)/100))-1)*100 -> 0
A14: TOTAL DO DO B.D.I. em porcentagem | D14: =D13% -> 0
A22: Legenda:
A23: AC: Administração Central
A24: DF: Despesas Financeiras
A25: R: Risco, seguro e garantia
A26: L: Lucro Líquido
A27: I: impostos ( Pis, Cofins, ISSQN)

Sheet Encargos Sociais 
A1: Á
A2: Prefeitura de Várzea Grande
A3: Secretaria Municipal de Serviços Público e Mobilidade Urbana
A4: PLANILHA DE ENCARGOS SOCIAIS
A5: GRUPO "A" | J5: %
A6: PREVIDÊNCIA SOCIAL (INSS) | J6: 0.2
A7: FGTS | J7: 0.08
A8: SALÁRIO EDUCAÇÃO | J8: 0.025
A9: SESI/SESC | J9: 0.015
A10: SENAIS/SENAC | J10: 0.01
A11: INCRA | J11: 0.002
A12: SEGURO ACIDENTE DO TRABALHO | J12: 0.03
A13: SEBRAE | J13: 0.006
A14: TOTAL DO GRUPO "A" | J14: =SUM(J6:J13) -> 0.368
A16: FUNDAMENTAÇÃO LEGAL
A17: Art. 25 - Inciso I da Lei n.º 8.212/91, Art. 15 da Lei n.º 8.036/90, Art. 7 Inciso III da Constituição federal de 05/10/88, Art. 3 Inciso I
A18: do Decreto 8.704/82, Art. 30 da Lei 8.030/90, Decreto Lei n.º 1.146/70, Art. 22 Inciso II da lei n.º 8.212/91 e Art. 8 da Lei 8.029/90,
A19: alterada pela Lei 8.154/90
A21: GRUPO "B" | J21: %
A22: FÉRIAS | J22: 0.1203
A23: AUXÍLIO ENFERMIDADE | J23: 0.0185
A24: AUXÍLIO PATERNIDADE /AUXÍLIO MATERNIDADE | J24: 0.0133
A25: FALTAS LEGAIS | J25: 0.0228
A26: ACIDENTE DE TRABALHO | J26: 0.013
A27: AVISO PRÉVIO TRABALHADO | J27: 0.0137
A28: 13º SALÁRIO | J28: 0.0833
A29: TOTAL DO GRUPO "B" | J29: =SUM(J22:J28) -> 0.2849
A31: FUNDAMENTAÇÃO LEGAL
A32: Art. 142 do Decreto-Lei n.º 5.452/43 da CLT, que aprova a Consolidação das Leis do Trabalho, Inciso XVII do Art. 7 da
A33: Constituição Federal de 05/10/88, art. 18 da Lei 8.212/91, Art. 476 da CLT, Art. 7 Inciso XIX e XVII da CF/88, Arts. 473 e 822 da
A34: CLT, Art. 487 da CLT, Art. 7 Inciso XXI do Art. 7 da CF/88, Lei n.º 4.090/62, Lei n.º 7.787/89 e Inciso VIII do Art. 7 da CF/88 e
A35: complementares
A37: GRUPO "C" | J37: *
A38: FGTS NAS RESCISÕES SEM JUSTA CAUSA | J38: 0.04
A39: AVISO PRÉVIO INDENIZADO | J39: 0.0384
A40: IDENIZAÇÃO ADICIONAL | J40: 0.018
A41: TOTAL DO GRUPO "C" | J41: =SUM(J38:J40) -> 0.0964
A43: FUNDAMENTAÇÃO LEGAL
A44: Art. 487 da CLT, Art. 10 das Disposições Constitucionais Gerais da CF/88, Art. 487 da CLT e Inciso XXI do Art. 7 da CF/88, Art. 18
A45: parágrafo 1º da Lei 8.036/90
...
