Workbook
Name BDI: '[1]estimativa de custo IRMA DULCE'!$I$7
Name COMPOSICAO133: [1]ELÉTRICA!#REF!
Name COMPOSICAO133: [1]ELÉTRICA!#REF!
Name COMPOSICAOC138: [1]INFRA!#REF!
Name COMPOSICAOC138: [1]INFRA!#REF!
Name COMPOSICAOE131: [1]ELÉTRICA!#REF!
Name COMPOSICAOE131: [1]ELÉTRICA!#REF!
Name COMPOSICAOE132: [1]ELÉTRICA!#REF!
Name COMPOSICAOE132: [1]ELÉTRICA!#REF!
Name COMPOSICAOE133: [1]ELÉTRICA!#REF!
Name COMPOSICAOE133: [1]ELÉTRICA!#REF!
Name COMPOSICAOE134: [1]ELÉTRICA!#REF!
Name COMPOSICAOE134: [1]ELÉTRICA!#REF!
Name COMPOSICAOE136: [1]ELÉTRICA!$F$25
Name COMPOSICAOE137: [1]ELÉTRICA!#REF!
Name COMPOSICAOE137: [1]ELÉTRICA!#REF!
Name COMPOSICAOE139: [1]ELÉTRICA!#REF!
Name COMPOSICAOE139: [1]ELÉTRICA!#REF!
Name COMPOSICAOE140: [1]ELÉTRICA!#REF!
Name COMPOSICAOE140: [1]ELÉTRICA!#REF!
Name COMPOSICAOE141: [1]ELÉTRICA!#REF!
Name COMPOSICAOE141: [1]ELÉTRICA!#REF!
Name COMPOSICAOE142: [1]ELÉTRICA!#REF!
Name COMPOSICAOE142: [1]ELÉTRICA!#REF!
Name COMPOSICAOE143: [1]ELÉTRICA!#REF!
Name COMPOSICAOE143: [1]ELÉTRICA!#REF!
Name COMPOSICAOE144: [1]ELÉTRICA!#REF!
Name COMPOSICAOE144: [1]ELÉTRICA!#REF!
Name COMPOSICAOE145: [1]ELÉTRICA!#REF!
Name COMPOSICAOE145: [1]ELÉTRICA!#REF!
Name COMPOSICAOE146: [1]ELÉTRICA!#REF!
Name COMPOSICAOE146: [1]ELÉTRICA!#REF!
Name COMPOSICAOE147: [1]ELÉTRICA!#REF!
Name COMPOSICAOE147: [1]ELÉTRICA!#REF!
Name COMPOSICAOE148: [1]ELÉTRICA!#REF!
Name COMPOSICAOE148: [1]ELÉTRICA!#REF!
Name COMPOSICAOE149: [1]ELÉTRICA!#REF!
Name COMPOSICAOE149: [1]ELÉTRICA!#REF!
Name COMPOSICAOE150: [1]ELÉTRICA!#REF!
Name COMPOSICAOE150: [1]ELÉTRICA!#REF!
Name COMPOSICAOE151: [1]ELÉTRICA!#REF!
Name COMPOSICAOE151: [1]ELÉTRICA!#REF!
Name COMPOSICAOE152: [1]ELÉTRICA!#REF!
Name COMPOSICAOE152: [1]ELÉTRICA!#REF!
Name COMPOSICAOE154: [1]ELÉTRICA!#REF!
Name COMPOSICAOE154: [1]ELÉTRICA!#REF!
Name COMPOSICAOE19: #REF!
Name COMPOSICAOE19: #REF!
Name COMPOSICAOE20: #REF!
Name COMPOSICAOE20: #REF!
Name COMPOSICAOE21: #REF!
Name COMPOSICAOE21: #REF!
Name COMPOSICAOE22: #REF!
Name COMPOSICAOE22: #REF!
Name COMPOSICAOE23: #REF!
Name COMPOSICAOE23: #REF!
Name COMPOSICAOE24: #REF!
Name COMPOSICAOE24: #REF!
Name COMPOSICAOI1: #REF!
Name COMPOSICAOI1: #REF!

Sheet RESUMO
A1: OBRA | B1: ='PLANILHA ORÇAMENTARIA'!B1:H1 -> Construção de Escola Padrão SEDUC/MT, constituída de: 16 salas de aula, sala de articulação, biblioteca e laboratórios de física, informática e química; Espaços Administrativos – diretoria, secretaria, coordenadoria, sala de professores, arquivo, copa, e sanitários; Refeitório – Cozinha com área de higienização, cocção, depósito de alimentos, depósito de utensílios, sanitários e serviços; Quadra Poliesportiva com vestiários feminino e masculino incluindo PCD F/M; instalações elétricas de baixa tensão, posto de transformação, SPDA , instalações hidrossanitárias e instalações combate a incêndio e pânico, observando as normas vigentes de acessibilidade e segurança, na EE SÃO SIMÃO – Localizada no município de Várzea Grande/MT.
A2: Município | B2: ='PLANILHA ORÇAMENTARIA'!B3 -> Várzea Grande/MT
A3: Endereço | B3: ='PLANILHA ORÇAMENTARIA'!B4 -> Rua Dep. Oscar Soares, Quadra 68, S/ nº, Loteamento São Simão - Varzea Grande/ MT
A5: BDI: | B5: ='PLANILHA ORÇAMENTARIA'!E3 -> 0.2673 | C5: Custo por m²: | D5: =D21/4392.46 -> 1944.622
A6: Referência: | B6: ='PLANILHA ORÇAMENTARIA'!H3 -> 07/2017 SINAPI 07/2017 SEDUC | C6: Período: | D6: 300 dias
A9: PLANILHA RESUMO
A10: ITEM | B10: DESCRIÇÃO | C10: % | D10: VALOR
A11: PRELIMINARES
A12: 1.0 | B12: ='PLANILHA ORÇAMENTARIA'!C9 -> ADMINISTRAÇÃO DE OBRA | C12: =D12/$D$21 -> 0.041133909 | D12: ='PLANILHA ORÇAMENTARIA'!H11 -> 351352.46
A13: 2.0 | B13: ='PLANILHA ORÇAMENTARIA'!C12 -> SERVIÇOS TÉCNICOS | C13: =D13/$D$21 -> 0.00068907917 | D13: ='PLANILHA ORÇAMENTARIA'!H14 -> 5885.89
A14: ='PLANILHA ORÇAMENTARIA'!A15 -> 3.0 | B14: ='PLANILHA ORÇAMENTARIA'!C15 -> SERVIÇOS PRELIMINARES | C14: =D14/$D$21 -> 0.016059568 | D14: ='PLANILHA ORÇAMENTARIA'!H28 -> 137175.6
A15: 4.0 | B15: ='PLANILHA ORÇAMENTARIA'!C31 -> ARQUITETÔNICO | C15: =D15/$D$21 -> 0.44069935 | D15: ='PLANILHA ORÇAMENTARIA'!H291 -> 3764310.4
A16: 5.0 | B16: ='PLANILHA ORÇAMENTARIA'!C293 -> ESTRUTURAL BLOCOS ESCOLA | C16: =D16/$D$21 -> 0.39072156 | D16: ='PLANILHA ORÇAMENTARIA'!H579 -> 3337416.4
A17: 6.0 | B17: ='PLANILHA ORÇAMENTARIA'!C581 -> INSTALAÇÕES HIDROSSANITÁRIAS | C17: =D17/$D$21 -> 0.03729825 | D17: ='PLANILHA ORÇAMENTARIA'!H787 -> 318589.51
A18: 7.0 | B18: ='PLANILHA ORÇAMENTARIA'!C789 -> INSTALAÇÃO ELÉTRICA | C18: =D18/$D$21 -> 0.050202395 | D18: ='PLANILHA ORÇAMENTARIA'!H856 -> 428812.52
A19: 8.0 | B19: ='PLANILHA ORÇAMENTARIA'!C858 -> SISTEMAS DE PROTEÇÃO CONTRA DESCARGAS ATMOSFÉRICAS | C19: =D19/$D$21 -> 0.011339946 | D19: ='PLANILHA ORÇAMENTARIA'!H890 -> 96862.13
A20: 9.0 | B20: ='PLANILHA ORÇAMENTARIA'!C892 -> INSTALAÇÕES DE SEGURANÇA E PREVENÇÃO A COMBATE A INCÊNDIO E PÂNICO | C20: =D20/$D$21 -> 0.011855947 | D20: ='PLANILHA ORÇAMENTARIA'!H971 -> 101269.64
B21: TOTAL | C21: =SUM(C12:C20) -> 1 | D21: =SUM(D12:D20) -> 8541674.5
A22: ='PLANILHA ORÇAMENTARIA'!A973:H973 -> oito milhões, quinhentos e quarenta e um mil, seiscentos e setenta e quatro reais e cinquenta e dois centavos

Sheet PLANILHA ORÇAMENTARIA
A1: OBRA: | B1: Construção de Escola Padrão SEDUC/MT, constituída de: 16 salas de aula, sala de articulação, biblioteca e laboratórios de física, informática e química; Espaços Administrativos – diretoria, secretaria, coordenadoria, sala de professores, arquivo, copa, e sanitários; Refeitório – Cozinha com área de higienização, cocção, depósito de alimentos, depósito de utensílios, sanitários e serviços; Quadra Poliesportiva com vestiários feminino e masculino incluindo PCD F/M; instalações elétricas de baixa tensão, posto de transformação, SPDA , instalações hidrossanitárias e instalações combate a incêndio e pânico, observando as normas vigentes de acessibilidade e segurança, na EE SÃO SIMÃO – Localizada no município de Várzea Grande/MT.
A2: Escola: | B2: E.E. SÃO SIMÃO
A3: Município: | B3: Várzea Grande/MT | D3: BDI: | E3: 0.2673 | G3: Referência: | H3: 07/2017 SINAPI 07/2017 SEDUC
A4: Endereço: | B4: Rua Dep. Oscar Soares, Quadra 68, S/ nº, Loteamento São Simão - Varzea Grande/ MT
A6: PLANILHA ORÇAMENTÁRIA
A7: ITEM | B7: CÓDIGO | C7: DESCRIÇÃO | D7: UND | E7: QNT | F7: P. BASE | G7: P. UNT | H7: P. TOTAL
A8: PRELIMINARES
A9: 1.0 | C9: ADMINISTRAÇÃO DE OBRA
A10: 1.1 | B10: COMPOSIÇÃO 2 | C10: ADMINISTRAÇÃO LOCAL DE OBRA | D10: UND | E10: 1 | F10: 277244.9 | G10: =TRUNC(F10*(1+$E$3),2) -> 351352.46 | H10: =TRUNC((G10*E10),2) -> 351352.46
C11: TOTAL DO ITEM | H11: =SUM(H10) -> 351352.46
A12: 2.0 | C12: SERVIÇOS TÉCNICOS
A13: 2.1 | B13: SDC04064 | C13: EXECUÇÃO DE PROJETO AS-BUILT | D13: m² | E13: 4392.46 | F13: 1.06 | G13: =TRUNC(F13*(1+$E$3),2) -> 1.34 | H13: =TRUNC((G13*E13),2) -> 5885.89
C14: TOTAL DO ITEM | H14: =SUM(H13) -> 5885.89
A15: 3.0 | C15: SERVIÇOS PRELIMINARES
A16: 3.1 | B16: 74209/001 | C16: PLACA DE OBRA EM CHAPA DE ACO GALVANIZADO | D16: m² | E16: 13.22 | F16: 317.96 | G16: =TRUNC(F16*(1+$E$3),2) -> 402.95 | H16: =TRUNC((G16*E16),2) -> 5326.99
A17: 3.2 | B17: 73822/002 | C17: LIMPEZA MECANIZADA DE TERRENO COM REMOCAO DE CAMADA VEGETAL, UTILIZANDO MOTONIVELADORA | D17: m² | E17: 9569 | F17: 0.49 | G17: =TRUNC(F17*(1+$E$3),2) -> 0.62 | H17: =TRUNC((G17*E17),2) -> 5932.78
A18: 3.3 | B18: 74077/003 | C18: LOCACAO CONVENCIONAL DE OBRA, ATRAVÉS DE GABARITO DE TABUAS CORRIDAS PONTALETADAS, COM REAPROVEITAMENTO DE 3 VEZES. | D18: m² | E18: 7165.05 | F18: 4.25 | G18: =TRUNC(F18*(1+$E$3),2) -> 5.38 | H18: =TRUNC((G18*E18),2) -> 38547.96
A19: 3.4 | B19: 73847/001 | C19: ALUGUEL CONTAINER/ESCRIT INCL INST ELET LARG=2,20 COMP=6,20M ALT=2,50M CHAPA ACO C/NERV TRAPEZ FORRO C/ISOL TERMO/ACUSTICO CHASSIS REFORC PISO COMPENS NAVAL EXC TRANSP/CARGA/DESCARGA | D19: MES | E19: 10 | F19: 402.34 | G19: =TRUNC(F19*(1+$E$3),2) -> 509.88 | H19: =TRUNC((G19*E19),2) -> 5098.8
A20: 3.5 | B20: 93208 | C20: EXECUÇÃO DE ALMOXARIFADO EM CANTEIRO DE OBRA EM CHAPA DE MADEIRA COMPENSADA, INCLUSO PRATELEIRAS. AF_02/2016 | D20: m² | E20: 21.8 | F20: 387.97 | G20: =TRUNC(F20*(1+$E$3),2) -> 491.67 | H20: =TRUNC((G20*E20),2) -> 10718.4
A21: 3.6 | B21: 93210 | C21: EXECUÇÃO DE REFEITÓRIO EM CANTEIRO DE OBRA EM CHAPA DE MADEIRA COMPENSADA, NÃO INCLUSO MOBILIÁRIO E EQUIPAMENTOS. AF_02/2016 | D21: m² | E21: 14.5 | F21: 313.81 | G21: =TRUNC(F21*(1+$E$3),2) -> 397.69 | H21: =TRUNC((G21*E21),2) -> 5766.5
A22: 3.7 | B22: SDC05002 | C22: LOCAÇÃO DE CONTAINER 2,30 X 4,30 M, ALT. 2,50 M, PARA SANITARIO, COM 3 BACIAS, 4 CHUVEIROS, 1 LAVATORIO E 1 MICTORIO | D22: MÊS | E22: 10 | F22: 584.73 | G22: =TRUNC(F22*(1+$E$3),2) -> 741.02 | H22: =TRUNC((G22*E22),2) -> 7410.2
A23: 3.8 | B23: 74220/001 | C23: TAPUME DE CHAPA DE MADEIRA COMPENSADA, E= 6MM, COM PINTURA A CAL E REAPROVEITAMENTO DE 2X | D23: m² | E23: 947.87 | F23: 45.76 | G23: =TRUNC(F23*(1+$E$3),2) -> 57.99 | H23: =TRUNC((G23*E23),2) -> 54966.98
A24: 3.9 | B24: 72898 | C24: CARGA E DESCARGA MECANIZADAS DE ENTULHO EM CAMINHAO BASCULANTE 6 M3 | D24: m³ | E24: 24 | F24: 3.15 | G24: =TRUNC(F24*(1+$E$3),2) -> 3.99 | H24: =TRUNC((G24*E24),2) -> 95.76
A25: 3.10 | B25: 95302 | C25: TRANSPORTE COM CAMINHÃO BASCULANTE 6 M3 EM RODOVIA PAVIMENTADA ( PARA DISTÂNCIAS SUPERIORES A 4 KM) | D25: M3XKM | E25: 240 | F25: 1.28 | G25: =TRUNC(F25*(1+$E$3),2) -> 1.62 | H25: =TRUNC((G25*E25),2) -> 388.8
A26: 3.11 | B26: 9540 | C26: ENTRADA DE ENERGIA ELÉTRICA AÉREA MONOFÁSICA 50A COM POSTE DE CONCRETO, INCLUSIVE CABEAMENTO, CAIXA DE PROTEÇÃO PARA MEDIDOR E ATERRAMENTO. | D26: UN | E26: 1 | F26: 884.18 | G26: =TRUNC(F26*(1+$E$3),2) -> 1120.52 | H26: =TRUNC((G26*E26),2) -> 1120.52
A27: 3.12 | B27: SDC05004 | C27: LIGAÇÃO PROVISÓRIA DE ÁGUA E SANITÁRIO | D27: UN | E27: 1 | F27: 1421.85 | G27: =TRUNC(F27*(1+$E$3),2) -> 1801.91 | H27: =TRUNC((G27*E27),2) -> 1801.91
C28: TOTAL DO ITEM | H28: =SUM(H16:H27) -> 137175.6
C29: TOTAL PRELIMINARES | H29: =SUM(H28+H14+H11) -> 494413.95
A30: ARQUITETÔNICO
A31: 4.0 | C31: ARQUITETÔNICO
A32: 4.1 | C32: COBERTURA BLOCO DE SALAS
A33: 4.1.1 | B33: 94216 | C33: TELHAMENTO COM TELHA METÁLICA TERMOACÚSTICA E = 30 MM, COM ATÉ 2 ÁGUAS, INCLUSO IÇAMENTO. AF_06/2016 | D33: m² | E33: 34.5 | F33: 103.68 | G33: =TRUNC(F33*(1+$E$3),2) -> 131.39 | H33: =TRUNC((G33*E33),2) -> 4532.95
A34: 4.1.2 | B34: SDC01034 | C34: TELHAMENTO COM TELHA DE AÇO/ALUMÍNIO, ONDULADA, E = 0,5 MM, COM ATÉ 2 ÁGUAS, INCLUSO IÇAMENTO | D34: m² | E34: 2434.4 | F34: 38.56 | G34: =TRUNC(F34*(1+$E$3),2) -> 48.86 | H34: =TRUNC((G34*E34),2) -> 118944.78
A35: 4.1.3 | B35: 94228 | C35: CALHA EM CHAPA DE AÇO GALVANIZADO NÚMERO 24, DESENVOLVIMENTO DE 50 CM, INCLUSO TRANSPORTE VERTICAL. AF_06/2016 | D35: M | E35: 11.6 | F35: 56.42 | G35: =TRUNC(F35*(1+$E$3),2) -> 71.5 | H35: =TRUNC((G35*E35),2) -> 829.4
A36: 4.1.4 | B36: 94231 | C36: RUFO EM CHAPA DE AÇO GALVANIZADO NÚMERO 24, CORTE DE 25 CM, INCLUSO TRANSPORTE VERTICAL. AF_06/2016 | D36: M | E36: 41.93 | F36: 30.74 | G36: =TRUNC(F36*(1+$E$3),2) -> 38.95 | H36: =TRUNC((G36*E36),2) -> 1633.17
C37: TOTAL DO ITEM | H37: =SUM(H33:H36) -> 125940.3
A38: 4.2 | C38: ESQUADRIAS BLOCO DAS SALAS
A39: 4.2.1 | B39: 91341 | C39: PORTA EM ALUMÍNIO DE ABRIR TIPO VENEZIANA COM GUARNIÇÃO, FIXAÇÃO COM PARAFUSOS - FORNECIMENTO E INSTALAÇÃO. AF_08/2015 | D39: m² | E39: 10.88 | F39: 1027.14 | G39: =TRUNC(F39*(1+$E$3),2) -> 1301.69 | H39: =TRUNC((G39*E39),2) -> 14162.38
A40: 4.2.2 | B40: SDC01027 | C40: FORNECIMENTO E INSTALAÇÃO DE PORTA METÁLICA, 90X2,10M, CHAPA LISA Nº18, INCLUSIVE FECHADURA TIPO TRINCO ROLETE E GUARNIÇÕES - CONFORME ESPECIFICAÇÃO TÉCNICA SEDUC | D40: UN | E40: 4 | F40: 1198.92 | G40: =TRUNC(F40*(1+$E$3),2) -> 1519.39 | H40: =TRUNC((G40*E40),2) -> 6077.56
A41: 4.2.3 | B41: SDC01031 | C41: FORNECIMENTO E INSTALAÇÃO DE PORTA METÁLICA, 90X2,10M, COM VISOR, CHAPA LISA Nº18, INCLUSIVE FECHADURA TIPO TRINCO ROLETE E GUARNIÇÕES - CONFORME ESPECIFICAÇÃO TÉCNICA SEDUC | D41: UN | E41: 21 | F41: 1581.31 | G41: =TRUNC(F41*(1+$E$3),2) -> 2003.99 | H41: =TRUNC((G41*E41),2) -> 42083.79
...

Sheet Composições do OrçaFascio
A1: COMPOSIÇÕES PRÓPRIAS
A2: 1 | B2: Código | C2: SDC02002 | D2: Referência
B3: Descrição | C3: BUCHA DE REDUCAO DE PVC, SOLDAVEL, LONGA, COM 50X25 MM | D3: ORSE 1083
B4: Tipo | C4: INHI - INSTALAÇÕES HIDROS SANITÁRIAS
B5: Unidade | C5: UN
A6: 2 | B6: Código | C6: SDC02003 | D6: Referência
B7: Descrição | C7: BUCHA DE REDUCAO DE PVC, SOLDAVEL, LONGA, COM 60X25 MM | D7: ORSE 1085
B8: Tipo | C8: INHI - INSTALAÇÕES HIDROS SANITÁRIAS
B9: Unidade | C9: UN
A10: 3 | B10: Código | C10: SDC02004 | D10: Referência
B11: Descrição | C11: CAIXA SIFONADA DE PVC COM GRELHA BRANCA, 150 X 150 X 50 MM | D11: SEINFRA C3586
B12: Tipo | C12: INHI - INSTALAÇÕES HIDROS SANITÁRIAS
B13: Unidade | C13: UN
A14: 4 | B14: Código | C14: SDC02005 | D14: Referência
B15: Descrição | C15: JUNÇÃO 45° DE PVC BRANCO COM REDUÇÃO, PONTA BOLSA E VIROLA, Ø 75 X 50 MM | D15: SAOP CO1004
B16: Tipo | C16: INHI - INSTALAÇÕES HIDROS SANITÁRIAS
B17: Unidade | C17: UN
A18: 5 | B18: Código | C18: SDC02006 | D18: Referência
B19: Descrição | C19: REDUÇÃO EXCÊNTRICA, PVC, ESGOTO, DN 100 X 50 MM | D19: ORSE 1583
B20: Tipo | C20: INHI - INSTALAÇÕES HIDROS SANITÁRIAS
B21: Unidade | C21: UN
A22: 6 | B22: Código | C22: SDC02007 | D22: Referência
B23: Descrição | C23: JUNÇÃO 45° DE PVC BRANCO COM REDUÇÃO, PONTA BOLSA E VIROLA, Ø 100 X 50 MM | D23: SAOP CO1005
B24: Tipo | C24: INHI - INSTALAÇÕES HIDROS SANITÁRIAS
B25: Unidade | C25: UN
A26: 7 | B26: Código | C26: SDC02008 | D26: Referência
B27: Descrição | C27: FORNECIMENTO E INSTALAÇÃO DE TERMINAL DE VENTILAÇÃO, SÉRIE NORMAL, DN 50MM | D27: ORSE 1666
B28: Tipo | C28: INHI - INSTALAÇÕES HIDROS SANITÁRIAS
B29: Unidade | C29: UN
A30: 8 | B30: Código | C30: SDC02011 | D30: Referência
B31: Descrição | C31: FOSSA SÉPTICA EM ALVENARIA - TIJOLO COMUM MACIÇO, DIMENSOES 350 X 180 X 150 CM (9,45M3) | D31: PROJETO
B32: Tipo | C32: INHI - INSTALAÇÕES HIDROS SANITÁRIAS
B33: Unidade | C33: UN
A34: 9 | B34: Código | C34: SDC02017 | D34: Referência
B35: Descrição | C35: BUCHA DE REDUCAO DE PVC, SOLDAVEL, CURTA COM 60 X 50 MM | D35: ORSE 1075
B36: Tipo | C36: INHI - INSTALAÇÕES HIDROS SANITÁRIAS
B37: Unidade | C37: UN
A38: 10 | B38: Código | C38: SDC02019 | D38: Referência
B39: Descrição | C39: BUCHA DE REDUCAO DE PVC, SOLDAVEL, CURTA COM 85 X 75 MM | D39: ORSE 1077
B40: Tipo | C40: INHI - INSTALAÇÕES HIDROS SANITÁRIAS
...

Sheet Orçamento Analítico
A1: Composições Analíticas com Preço Unitário
A2: Composições Principais
B3: Item | C3: Código | D3: Banco | E3: Descrição | F3: Tipo | G3: Und | H3: Quant. | I3: Valor Unit | J3: Total
A4: Composição | B4: 1.1 | C4: COMPOSIÇÃO 2 | D4: Próprio | E4: ADMINISTRAÇÃO LOCAL DE OBRA | F4: SERT - SERVIÇOS TÉCNICOS | G4: UND | H4: 1 | I4: 277.244,90 | J4: 277.244,90
A5: Composição Auxiliar | C5: 90777 | D5: SINAPI | E5: ENGENHEIRO CIVIL DE OBRA JUNIOR COM ENCARGOS COMPLEMENTARES | F5: SEDI - SERVIÇOS DIVERSOS | G5: H | H5: 1760,0 | I5: 70,03 | J5: 123252.8
A6: Composição Auxiliar | C6: 94295 | D6: SINAPI | E6: MESTRE DE OBRAS COM ENCARGOS COMPLEMENTARES | F6: SEDI - SERVIÇOS DIVERSOS | G6: MES | H6: 10,0 | I6: 4.968,93 | J6: 49689.3
A7: Composição Auxiliar | C7: 88326 | D7: SINAPI | E7: VIGIA NOTURNO COM ENCARGOS COMPLEMENTARES | F7: SEDI - SERVIÇOS DIVERSOS | G7: H | H7: 3600,0 | I7: 15,52 | J7: 55872
A8: Composição Auxiliar | C8: SDC06001 | D8: Próprio | E8: VIGIA DIURNO COM ENCARGOS COMPLEMENTARES | F8: SEDI - SERVIÇOS DIVERSOS | G8: H | H8: 1080,0 | I8: 12,12 | J8: 13089.6
A9: Composição Auxiliar | C9: 93572 | D9: SINAPI | E9: ENCARREGADO GERAL DE OBRAS COM ENCARGOS COMPLEMENTARES | F9: SEDI - SERVIÇOS DIVERSOS | G9: MES | H9: 10,0 | I9: 3.534,12 | J9: 35341.2
B11: Item | C11: Código | D11: Banco | E11: Descrição | F11: Tipo | G11: Und | H11: Quant. | I11: Valor Unit | J11: Total
A12: Composição | B12: 2.1 | C12: SDC04064 | D12: Próprio | E12: EXECUÇÃO DE PROJETO AS-BUILT | F12: SERT - SERVIÇOS TÉCNICOS | G12: m² | H12: 1 | I12: 1,06 | J12: 1,06
A13: Composição Auxiliar | C13: 90773 | D13: SINAPI | E13: DESENHISTA COPISTA COM ENCARGOS COMPLEMENTARES | F13: SEDI - SERVIÇOS DIVERSOS | G13: H | H13: 0,058 | I13: 18,41 | J13: 1.06
B15: Item | C15: Código | D15: Banco | E15: Descrição | F15: Tipo | G15: Und | H15: Quant. | I15: Valor Unit | J15: Total
A16: Composição | B16: 3.7 | C16: SDC05002 | D16: Próprio | E16: LOCAÇÃO DE CONTAINER 2,30 X 4,30 M, ALT. 2,50 M, PARA SANITARIO, COM 3 BACIAS, 4 CHUVEIROS, 1 LAVATORIO E 1 MICTORIO | F16: CANT - CANTEIRO DE OBRAS | G16: MÊS | H16: 1 | I16: 584,73 | J16: 584,73
A17: Insumo da Composição | C17: 00010777 | D17: SINAPI | E17: LOCACAO DE CONTAINER 2,30 X 4,30 M, ALT. 2,50 M, PARA SANITARIO, COM 3 BACIAS, 4 CHUVEIROS, 1 LAVATORIO E 1 MICTORIO | F17: Equipamento | G17: MES | H17: 1,0 | I17: 584,73 | J17: 584.73
B18: Item | C18: Código | D18: Banco | E18: Descrição | F18: Tipo | G18: Und | H18: Quant. | I18: Valor Unit | J18: Total
A19: Composição | B19: 3.12 | C19: SDC05004 | D19: Próprio | E19: LIGAÇÃO PROVISÓRIA DE ÁGUA E SANITÁRIO | F19: CANT - CANTEIRO DE OBRAS | G19: UN | H19: 1 | I19: 1.421,85 | J19: 1.421,85
A20: Composição Auxiliar | C20: 88248 | D20: SINAPI | E20: AUXILIAR DE ENCANADOR OU BOMBEIRO HIDRÁULICO COM ENCARGOS COMPLEMENTARES | F20: SEDI - SERVIÇOS DIVERSOS | G20: H | H20: 4,0 | I20: 14,26 | J20: 57.04
A21: Composição Auxiliar | C21: 88267 | D21: SINAPI | E21: ENCANADOR OU BOMBEIRO HIDRÁULICO COM ENCARGOS COMPLEMENTARES | F21: SEDI - SERVIÇOS DIVERSOS | G21: H | H21: 8,0 | I21: 17,49 | J21: 139.92
A22: Composição Auxiliar | C22: 88309 | D22: SINAPI | E22: PEDREIRO COM ENCARGOS COMPLEMENTARES | F22: SEDI - SERVIÇOS DIVERSOS | G22: H | H22: 8,0 | I22: 17,09 | J22: 136.72
A23: Composição Auxiliar | C23: 88316 | D23: SINAPI | E23: SERVENTE COM ENCARGOS COMPLEMENTARES | F23: SEDI - SERVIÇOS DIVERSOS | G23: H | H23: 8,12 | I23: 13,89 | J23: 112.78
A24: Composição Auxiliar | C24: 88262 | D24: SINAPI | E24: CARPINTEIRO DE FORMAS COM ENCARGOS COMPLEMENTARES | F24: SEDI - SERVIÇOS DIVERSOS | G24: H | H24: 8,0 | I24: 17,00 | J24: 136
A25: Insumo da Composição | C25: 00020247 | D25: SINAPI | E25: PREGO DE ACO POLIDO COM CABECA 15 X 15 (1 1/4 X 13) | F25: Material | G25: KG | H25: 1,0 | I25: 9,05 | J25: 9.05
A26: Insumo da Composição | C26: 00009836 | D26: SINAPI | E26: TUBO PVC SERIE NORMAL, DN 100 MM, PARA ESGOTO PREDIAL (NBR 5688) | F26: Material | G26: M | H26: 5,0 | I26: 8,30 | J26: 41.5
A27: Insumo da Composição | C27: 00000370 | D27: SINAPI | E27: AREIA MEDIA - POSTO JAZIDA/FORNECEDOR (RETIRADO NA JAZIDA, SEM TRANSPORTE) | F27: Material | G27: m³ | H27: 0,0189 | I27: 60,00 | J27: 1.13
A28: Insumo da Composição | C28: 00012774 | D28: SINAPI | E28: HIDROMETRO UNIJATO, VAZAO MAXIMA DE 5,0 M3/H, DE 3/4" | F28: Material | G28: UN | H28: 1,0 | I28: 113,95 | J28: 113.95
A29: Insumo da Composição | C29: 00006189 | D29: SINAPI | E29: TABUA MADEIRA 2A QUALIDADE 2,5 X 30,0CM (1 X 12") NAO APARELHADA | F29: Material | G29: M | H29: 8,0 | I29: 5,91 | J29: 47.28
A30: Insumo da Composição | C30: 00009868 | D30: SINAPI | E30: TUBO PVC, SOLDAVEL, DN 25 MM, AGUA FRIA (NBR-5648) | F30: Material | G30: M | H30: 30,0 | I30: 3,04 | J30: 91.2
A31: Insumo da Composição | C31: 00004425 | D31: SINAPI | E31: VIGA DE MADEIRA NAO APARELHADA 6 X 12 CM, MACARANDUBA, ANGELIM OU EQUIVALENTE DA REGIAO | F31: Material | G31: M | H31: 25,0 | I31: 9,70 | J31: 242.5
... A33: Insumo da Composição | C33: 00034636 | D33: SINAPI | E33: CAIXA D'AGUA EM POLIETILENO 1000 LITROS, COM TAMPA | F33: Material | G33: UN | H33: 1,0 | I33: 283,48 | J33: 283.48
B34: Item | C34: Código | D34: Banco | E34: Descrição | F34: Tipo | G34: Und | H34: Quant. | I34: Valor Unit | J34: Total
A35: Composição | B35: 4.1.2 | C35: SDC01034 | D35: Próprio | E35: TELHAMENTO COM TELHA DE AÇO/ALUMÍNIO, ONDULADA, E = 0,5 MM, COM ATÉ 2 ÁGUAS, INCLUSO IÇAMENTO | F35: COBE - COBERTURA | G35: m² | H35: 1 | I35: 38,56 | J35: 38,56
A36: Composição Auxiliar | C36: 88316 | D36: SINAPI | E36: SERVENTE COM ENCARGOS COMPLEMENTARES | F36: SEDI - SERVIÇOS DIVERSOS | G36: H | H36: 0,096 | I36: 13,89 | J36: 1.33
A37: Composição Auxiliar | C37: 88323 | D37: SINAPI | E37: TELHADISTA COM ENCARGOS COMPLEMENTARES | F37: SEDI - SERVIÇOS DIVERSOS | G37: H | H37: 0,091 | I37: 15,31 | J37: 1.39
A38: Composição Auxiliar | C38: 93287 | D38: SINAPI | E38: GUINDASTE HIDRÁULICO AUTOPROPELIDO, COM LANÇA TELESCÓPICA 40 M, CAPACIDADE MÁXIMA 60 T, POTÊNCIA 260 KW - CHP DIURNO. AF_03/2016 | F38: CHOR - CUSTOS HORÁRIOS DE MÁQUINAS E EQUIPAMENTOS | G38: CHP | H38: 0,0007 | I38: 274,78 | J38: 0.19
A39: Composição Auxiliar | C39: 93288 | D39: SINAPI | E39: GUINDASTE HIDRÁULICO AUTOPROPELIDO, COM LANÇA TELESCÓPICA 40 M, CAPACIDADE MÁXIMA 60 T, POTÊNCIA 260 KW - CHI DIURNO. AF_03/2016 | F39: CHOR - CUSTOS HORÁRIOS DE MÁQUINAS E EQUIPAMENTOS | G39: CHI | H39: 0,001 | I39: 75,35 | J39: 0.07
A40: Insumo da Composição | C40: 00025007 | D40: SINAPI | E40: TELHA DE ACO ZINCADO ONDULADA, A = *17* MM, E = 0,5 MM, SEM PINTURA | F40: Material | G40: m² | H40: 1,16 | I40: 26,96 | J40: 31.27
A41: Insumo da Composição | C41: 00011029 | D41: SINAPI | E41: HASTE RETA PARA GANCHO DE FERRO GALVANIZADO, COM ROSCA 1/4 " X 30 CM PARA FIXACAO DE TELHA METALICA, INCLUI PORCA E ARRUELAS DE VEDACAO | F41: Material | G41: CJ | H41: 4,15 | I41: 1,04 | J41: 4.31
B43: Item | C43: Código | D43: Banco | E43: Descrição | F43: Tipo | G43: Und | H43: Quant. | I43: Valor Unit | J43: Total
A44: Composição | B44: 4.2.2 | C44: SDC01027 | D44: Próprio | E44: FORNECIMENTO E INSTALAÇÃO DE PORTA METÁLICA, 90X2,10M, CHAPA LISA Nº18, INCLUSIVE FECHADURA TIPO TRINCO ROLETE E GUARNIÇÕES - CONFORME ESPECIFICAÇÃO TÉCNICA SEDUC | F44: ESQV - ESQUADRIAS/FERRAGENS/VIDROS | G44: UN | H44: 1 | I44: 1.198,92 | J44: 1.198,92
...

Sheet MAPA DE COTAÇÃO
A1: MAPA DE COTAÇÃO
A2: 179 | B2: PERFIL AÇO DOBRADO, LAMINADO E CHAPARIA ASTM A 36 | C2: AÇOFER INDÚSTRIA E COMÉRCIO LTDA | D2: 03.989.217/0002-45 | E2: 36644374 | F2: HELTON | G2: 42795 | H2: 1KG | I2: 8.04 | J2: 4.88
C3: FERMAT | D3: 03.658.692/0004-09 | E3: 36344700 | F3: MARIELE | G3: 42795 | H3: 1KG | I3: 4.42
C4: PERFILADOS MULTIAÇO | D4: 02.019.067/0001-01 | E4: 36461605 | F4: DALVA | G4: 42795 | H4: 1KG | I4: 4.88
A5: 232 | B5: TINTA ACRILICO FOSCO PANTONE 308U | C5: Todimo | D5: 15.375.991/0003-26 | E5: 3617-5000 | F5: Sergio | G5: 42856 | H5: L | I5: 45.194375 | J5: 28.0625
C6: Bigolim | D6: 00.364.896/0001-98 | E6: 3615-9000 | F6: Nelson | G6: 42856 | H6: L | I6: 23.54875
C7: Centro de Pinturas | D7: 24.287.723/0001-81 | E7: 3057-2550 | F7: Nedo | G7: 42856 | H7: L | I7: 28.0625
A8: 157 | B8: JANELA ALUMINIO TIPO GUILHOTINA 1,5X2,0M | C8: Proloja Vidros | E8: 3624-9925 | F8: Diego | G8: 42826 | H8: Und | I8: 2310 | J8: 2310
C9: Alumat | D9: 10.572.049/0001-72 | E9: 3364-7998 | F9: Jamil | G9: 42826 | H9: Und | I9: 2650
C10: CNN Inox | D10: 16.868.802/0001-58 | E10: 3682-6920 | G10: 42826 | H10: Und | I10: 2268
A11: 195 | B11: PORTA DE AÇO CHAPA 18 0,90X2,10 SEM VISOR | C11: Serralheria Pinheiro | E11: 99227-5424 | F11: Geniva | G11: 42754 | H11: Und | I11: 1100 | J11: 1100
C12: Serralheria Jesus | E12: 99278-6775 | F12: Fernando | G12: 42736 | H12: Und | I12: 1050
C13: Centro Aço Metalúrgica | D13: 26.250.326/0001-60 | E13: 36532049 | F13: Valdeci | G13: 42736 | H13: Und | I13: 1100
A14: 193 | B14: PORTA DE AÇO CHAPA 18 0,80X2,10 SEM VISOR | C14: Serralheria Pinheiro | E14: 99227-5424 | F14: Geniva | G14: 42754 | H14: Und | I14: 990 | J14: 990
C15: Serralheria Jesus | E15: 99278-6775 | F15: Fernando | G15: 42736 | H15: Und | I15: 990
C16: Centro Aço Metalúrgica | D16: 26.250.326/0001-60 | E16: 36532049 | F16: Valdeci | G16: 42736 | H16: Und | I16: 1400
A17: 194 | B17: PORTA DE AÇO CHAPA 18 0,90X2,10 COM VISOR | C17: Serralheria Pinheiro | E17: 99227-5424 | F17: Geniva | G17: 42754 | H17: Und | I17: 1250 | J17: 1350
C18: Serralheria Jesus | E18: 99278-6775 | F18: Fernando | G18: 42736 | H18: Und | I18: 1350
C19: Centro Aço Metalúrgica | D19: 26.250.326/0001-60 | E19: 36532049 | F19: Valdeci | G19: 42736 | H19: Und | I19: 1400
A20: 218 | B20: TINTA ESMALTE SINTÉTICO, COR REF. PANTONE 3125U, GL 3,2L | C20: TODIMO CONSTRUÇÃO E ACABAMENTO | D20: 15.375.991/0001-64 | E20: 3617-5000 | F20: WILLIAM | G20: 42736 | H20: L | I20: 68.025 | J20: 45.3125
C21: CASA DAS TINTAS | D21: 26.538.876/0001-80 | E21: 36273030 | F21: DEJAMIL | G21: 42736 | H21: L | I21: 45.3125
C22: BIGOLIN ACABAMENTOS E ACESSORIOS | D22: 00.364.896/0001-98 | E22: 36159000 | F22: NELSON | G22: 42736 | H22: L | I22: 27.803125
A23: 216 | B23: TINTA ESMALTE SINTÉTICO, COR REF. PANTONE 2758U, GL 3,2L | C23: TODIMO CONSTRUÇÃO E ACABAMENTO | D23: 15.375.991/0001-64 | E23: 3617-5000 | F23: WILLIAM | G23: 42736 | H23: L | I23: 100.34063 | J23: 39.528125
C24: CASA DAS TINTAS | D24: 26.538.876/0001-80 | E24: 36273030 | F24: DEJAMIL | G24: 42736 | H24: L | I24: 30.759375
C25: BIGOLIN ACABAMENTOS E ACESSORIOS | D25: 00.364.896/0001-98 | E25: 36159000 | F25: NELSON | G25: 42736 | H25: L | I25: 39.528125
A26: 217 | B26: TINTA ESMALTE SINTÉTICO, COR REF. PANTONE 308U, GL 3,2L | C26: TODIMO CONSTRUÇÃO E ACABAMENTO | D26: 15.375.991/0001-64 | E26: 3617-5000 | F26: WILLIAM | G26: 42736 | H26: L | I26: 43.4125 | J26: 37.13125
C27: CASA DAS TINTAS | D27: 26.538.876/0001-80 | E27: 36273030 | F27: DEJAMIL | G27: 42736 | H27: L | I27: 37.13125
C28: BIGOLIN ACABAMENTOS E ACESSORIOS | D28: 00.364.896/0001-98 | E28: 36159000 | F28: NELSON | G28: 42736 | H28: L | I28: 34.690625
A29: 215 | B29: TINTA ACRILICA FOSCO, COR REF. PANTONE 3125u | C29: TODIMO CONSTRUÇÃO E ACABAMENTO | D29: 15.375.991/0001-64 | E29: 3617-5000 | F29: WILLIAM | G29: 42856 | H29: L | I29: 53.763125 | J29: 24.6875
C30: CENTRO DE PINTURA | D30: 24,287.723/0001-81 | E30: 36273030 | F30: GILBERTO | G30: 42856 | H30: L | I30: 24.6875
C31: BIGOLIN ACABAMENTOS E ACESSORIOS | D31: 00.364.896/0001-98 | E31: 36159000 | F31: NELSON | G31: 42856 | H31: L | I31: 23.54875
A32: 237 | B32: FORNECIMENTO E INSTALAÇÃO DE COBERTURA EM POLICARBONATO COMPACTO, 3MM, COR CINZA | C32: AMERICA PAINEIS - COMUNICAÇÃO VISUAL | E32: 33650588 | F32: ISRAEL | G32: 42795 | H32: M2 | I32: 450 | J32: 322.5
C33: SÓ TOLDOS | E33: 36861507 | F33: ERLEI | G33: 42795 | H33: M2 | I33: 195
G34: 42795
A35: 126 | B35: DIVISORIA EM GRANITO BRANCO ITAUNAS | C35: VILLA REAL MARMORES E GRANITO | D35: 17.134.646/0001-64 | E35: 3025-3116 | F35: FABIANE | G35: 42767 | H35: m2 | I35: 420 | J35: 455
C36: JBA DISTRIB. DE MARMORES E GRANITO LTDA. | D36: 05.739.751/0001-48 | E36: 3317-3300 | F36: MARCOS | G36: 42767 | H36: m2 | I36: 455
C37: REVESTIR ARTE EM PEDRAS | D37: 05.943.596/0001-87 | E37: 3359-3519 | G37: 42767 | H37: m2 | I37: 480
A38: 208 | B38: SOLEIRA DE GRANITO | C38: VILLA REAL MARMORES E GRANITO | D38: 17.134.646/0001-64 | E38: 3025-3116 | F38: FABIANE | G38: 42767 | H38: m2 | I38: 420 | J38: 455
C39: JBA DISTRIB. DE MARMORES E GRANITO LTDA. | D39: 05.739.751/0001-48 | E39: 3317-3300 | F39: MARCOS | G39: 42767 | H39: m2 | I39: 455
C40: REVESTIR ARTE EM PEDRAS | D40: 05.943.596/0001-87 | E40: 3359-3519 | G40: 42767 | H40: m2 | I40: 480
...

Sheet ENCARGOS SOCIAIS
A1: ESCALA SALARIAL DE MÃO-DE-OBRA
A2: CÓDIGO | B2: DESCRIÇÃO | C2: COM DESONERAÇÃO
C3: HORISTA (%) | D3: MENSALISTA (%)
A4: GRUPO A
A5: A1 | B5: INSS | C5: 0 | D5: 0
A6: A2 | B6: SESI | C6: 0.015 | D6: 0.015
A7: A3 | B7: SENAI | C7: 0.01 | D7: 0.01
A8: A4 | B8: INCRA | C8: 0.002 | D8: 0.002
A9: A5 | B9: SEBRAE | C9: 0.006 | D9: 0.006
A10: A6 | B10: Salario Educação | C10: 0.025 | D10: 0.025
A11: A7 | B11: Seguro Contra Acidentes de Trabalho | C11: 0.03 | D11: 0.03
A12: A8 | B12: FGTS | C12: 0.08 | D12: 0.08
A13: A9 | B13: SECONCI | C13: 0 | D13: 0
A14: A | B14: Total | C14: 0.168 | D14: 0.168
A15: GRUPO B
A16: B1 | B16: Repouso Semanal Remunerado | C16: 0.1778 | D16: Não incide
A17: B2 | B17: Feriados | C17: 0.0367 | D17: Não incide
A18: B3 | B18: Auxilio - Enfermidade | C18: 0.0092 | D18: 0.0069
A19: B4 | B19: 13º Salario | C19: 0.1107 | D19: 0.0833
A20: B5 | B20: Licença Paternidade | C20: 0.0008 | D20: 0.0006
A21: B6 | B21: Faltas Justificadas | C21: 0.0074 | D21: 0.0056
A22: B7 | B22: Dias de chuvas | C22: 0.011 | D22: Não incide
A23: B8 | B23: Auxílio Acidente de Trabalho | C23: 0.0013 | D23: 0.0009
A24: B9 | B24: Férias Gozadas | C24: 0.1376 | D24: 0.1036
A25: B10 | B25: Salário Maternidade | C25: 0.0003 | D25: 0.0002
A26: B | B26: Total | C26: 0.4928 | D26: 0.2011
A27: GRUPO C
A28: C1 | B28: Aviso Prévio Indenizado | C28: 0.0828 | D28: 0.0623
A29: C2 | B29: Aviso Prévio Trabalhado | C29: 0.002 | D29: 0.0015
A30: C3 | B30: Férias Indenizadas | C30: 0.0093 | D30: 0.007
A31: C4 | B31: Depósito Rescisão Sem Justa Causa | C31: 0.0484 | D31: 0.0365
A32: C5 | B32: Indenização Adicional | C32: 0.007 | D32: 0.0052
A33: C | B33: Total | C33: 0.1495 | D33: 0.1125
A34: GRUPO D
A35: D1 | B35: Reincidência de Grupo A Sobre Grupo B | C35: 0.0828 | D35: 0.0338
A36: D2 | B36: Reincidência de Grupo A Sobre Aviso Prévio Trabalhado e Reincidência do FGTS Sobre Aviso Prévio Indenizado | C36: 0.007 | D36: 0.0052
A37: D | B37: Total | C37: 0.0898 | D37: 0.039
A38: TOTAL (A+B+C+D) | C38: 0.9001 | D38: 0.5206

Sheet BDI - Aliquota ISSQN - 5,0%
A1: COMPOSIÇÃO DA PARCELA DE BDI (BONIFICAÇÕES E DESPESA INDIRETAS)
A2: ITENS RELATIVOS À ADMINISTRAÇÃO CENTRAL | C2: % SOBRE PV
A3: AC - Administração Central | B3: 4,00% de PV | C3: 0.03
A4: DF - Custos Financeiros | B4: CF do (PV-Lucro Operacional) | C4: 0.01
A5: C - Riscos | B5: 1,25% de PV | C5: 0.0097
A6: S - Seguros e Garantias Contratuais | B6: 2,50% a.a. sobre 5,00% do PV | C6: 0.008
A7: G - Garantias | C7: 0.002
B8: Sub-total | C8: =SUM(C3:C7) -> 0.0597
A10: LUCRO | C10: % SOBRE PV
A11: E - Lucro Operacional | B11: 7,50% de PV | C11: 0.074
B12: Sub-total | C12: =SUM(C11) -> 0.074
A14: BDI SEM IMPOSTOS | C14: 0.1413
A15: TAXAS E IMPOSTOS | C15: % SOBRE PV
A16: F - PIS | B16: 0,65% de PV | C16: 0.0065
A17: G - COFINS | B17: 3,00% de PV | C17: 0.03
A18: H - ISSQN | B18: 0,80% de PV | C18: 0.02
A19: Contribuição Previdenciária - Lei N° 13.161/15 | C19: 0.045
B20: Sub-total | C20: =SUM(C16:C19) -> 0.1015
A22: BDI COM IMPOSTOS | C22: =ROUND((((1+C3+C6+C5+C7)*(1+C4)*(1+C11)/((1-C20)))-1),4) -> 0.2673
A23: Custo Direto - CD | C23: 0.8022
A24: BDI Final com impostos | C24: 1
A25: Preço de Venda - PV | C25: =C22 -> 0.2673
A28: Legenda:
A29: PV = Preço de Venda | B29: IA = Inflação Acumulada (período de 12 meses - IPCA) = 4,84%
A30: CD = Custo Direto | B30: CF = ((1 + Selic)¹/¹² x ((1+IA)¹/¹² -1)
A31: Selic Fev/2014 = 10,52% | B31: Seguros e Garantias (2,5% a.a. sobre 5% do PV) - Prazo médio de 1 ano
B32: Lucro Operacional conforme Portaria SINFRA n°. 343/05 de 07 de junho de 2005.
A34: Localidade / alíquota ISSQN | B34: Para Mão de Obra
A35: Alíquota de VARZEA GRANDE = 5,0% | B35: 40% sobre alíquota

Sheet CRONOGRAMA
A1: OBRA | B1: ='PLANILHA ORÇAMENTARIA'!B1:H1 -> Construção de Escola Padrão SEDUC/MT, constituída de: 16 salas de aula, sala de articulação, biblioteca e laboratórios de física, informática e química; Espaços Administrativos – diretoria, secretaria, coordenadoria, sala de professores, arquivo, copa, e sanitários; Refeitório – Cozinha com área de higienização, cocção, depósito de alimentos, depósito de utensílios, sanitários e serviços; Quadra Poliesportiva com vestiários feminino e masculino incluindo PCD F/M; instalações elétricas de baixa tensão, posto de transformação, SPDA , instalações hidrossanitárias e instalações combate a incêndio e pânico, observando as normas vigentes de acessibilidade e segurança, na EE SÃO SIMÃO – Localizada no município de Várzea Grande/MT.
A2: Município | B2: ='PLANILHA ORÇAMENTARIA'!B3 -> Várzea Grande/MT | Q2: BDI: | R2: ='PLANILHA ORÇAMENTARIA'!E3 -> 0.2673 | T2: Referência | U2: ='PLANILHA ORÇAMENTARIA'!H3 -> 07/2017 SINAPI 07/2017 SEDUC
A3: Endereço | B3: ='PLANILHA ORÇAMENTARIA'!B4 -> Rua Dep. Oscar Soares, Quadra 68, S/ nº, Loteamento São Simão - Varzea Grande/ MT | Q3: PERÍODO: | R3: 300 Dias
A5: CRONOGRAMA FÍSICO FINANCEIRO
A6: ITEM | B6: DESCRIÇÃO | C6: VALOR | D6: % | E6: MÊS 01 | G6: MÊS 02 | I6: MÊS 03 | K6: MÊS 04 | M6: MÊS 05 | O6: MÊS 06 | Q6: MÊS 07 | S6: MÊS 08 | U6: MÊS 09 | W6: MÊS 10
E7: VALOR (R$) | F7: % | G7: VALOR (R$) | H7: % | I7: VALOR (R$) | J7: % | K7: VALOR (R$) | L7: % | M7: VALOR (R$) | N7: % | O7: VALOR (R$) | P7: % | Q7: VALOR (R$) | R7: % | S7: VALOR (R$) | T7: % | U7: VALOR (R$) | V7: % | W7: VALOR (R$) | X7: %
A8: =RESUMO!A12 -> 1.0 | B8: =RESUMO!B12 -> ADMINISTRAÇÃO DE OBRA | C8: =RESUMO!D12 -> 351352.46 | D8: =C8/$C$17 -> 0.041133909 | E8: =$C$8*10% -> 35135.246 | F8: =E8/$C$8 -> 0.1 | G8: =$C$8*10% -> 35135.246 | H8: =G8/$C$8 -> 0.1 | I8: =$C$8*10% -> 35135.246 | J8: =I8/$C$8 -> 0.1 | K8: =$C$8*10% -> 35135.246 | L8: =K8/$C$8 -> 0.1 | M8: =$C$8*10% -> 35135.246 | N8: =M8/$C$8 -> 0.1 | O8: =$C$8*10% -> 35135.246 | P8: =O8/$C$8 -> 0.1 | Q8: =$C$8*10% -> 35135.246 | R8: =Q8/$C$8 -> 0.1 | S8: =$C$8*10% -> 35135.246 | T8: =S8/$C$8 -> 0.1 | U8: =$C$8*10% -> 35135.246 | V8: =U8/$C$8 -> 0.1 | W8: =$C$8*10% -> 35135.246 | X8: =W8/$C$8 -> 0.1
A9: =RESUMO!A13 -> 2.0 | B9: =RESUMO!B13 -> SERVIÇOS TÉCNICOS | C9: =RESUMO!D13 -> 5885.89 | D9: =C9/$C$17 -> 0.00068907917 | W9: =C9/1 -> 5885.89 | X9: =W9/$C$9 -> 1
A10: ='PLANILHA ORÇAMENTARIA'!A15 -> 3.0 | B10: =RESUMO!B14 -> SERVIÇOS PRELIMINARES | C10: ='PLANILHA ORÇAMENTARIA'!H28 -> 137175.6 | D10: =C10/$C$17 -> 0.016059568 | E10: =$C$10*0.5 -> 68587.8 | F10: =E10/$C$10 -> 0.5 | G10: =$C$10*0.3 -> 41152.68 | H10: =G10/$C$10 -> 0.3 | I10: =$C$10*0.2 -> 27435.12 | J10: =I10/$C$10 -> 0.2
A11: =RESUMO!A15 -> 4.0 | B11: =RESUMO!B15 -> ARQUITETÔNICO | C11: =RESUMO!D15 -> 3764310.4 | D11: =C11/$C$17 -> 0.44069935 | G11: =$C$11*0.1 -> 376431.04 | H11: =G11/$C$11 -> 0.1 | I11: =$C$11*0.1 -> 376431.04 | J11: =I11/$C$11 -> 0.1 | K11: =$C$11*0.2 -> 752862.07 | L11: =K11/$C$11 -> 0.2 | M11: =$C$11*0.2 -> 752862.07 | N11: =M11/$C$11 -> 0.2 | O11: =$C$11*0.15 -> 564646.56 | P11: =O11/$C$11 -> 0.15 | Q11: =$C$11*0.1 -> 376431.04 | R11: =Q11/$C$11 -> 0.1 | S11: =$C$11*0.08 -> 301144.83 | T11: =S11/$C$11 -> 0.08 | U11: =$C$11*0.04 -> 150572.41 | V11: =U11/$C$11 -> 0.04 | W11: =$C$11*0.03 -> 112929.31 | X11: =W11/$C$11 -> 0.03
A12: =RESUMO!A16 -> 5.0 | B12: =RESUMO!B16 -> ESTRUTURAL BLOCOS ESCOLA | C12: =RESUMO!D16 -> 3337416.4 | D12: =C12/$C$17 -> 0.39072156 | E12: =$C$12*5% -> 166870.82 | F12: =E12/$C$12 -> 0.05 | G12: =$C$12*10% -> 333741.64 | H12: =G12/$C$12 -> 0.1 | I12: =$C$12*15% -> 500612.46 | J12: =I12/$C$12 -> 0.15 | K12: =$C$12*20% -> 667483.28 | L12: =K12/$C$12 -> 0.2 | M12: =$C$12*15% -> 500612.46 | N12: =M12/$C$12 -> 0.15 | O12: =$C$12*15% -> 500612.46 | P12: =O12/$C$12 -> 0.15 | Q12: =$C$12*8% -> 266993.31 | R12: =Q12/$C$12 -> 0.08 | S12: =$C$12*7% -> 233619.15 | T12: =S12/$C$12 -> 0.07 | U12: =$C$12*5% -> 166870.82 | V12: =U12/$C$12 -> 0.05
A13: =RESUMO!A17 -> 6.0 | B13: =RESUMO!B17 -> INSTALAÇÕES HIDROSSANITÁRIAS | C13: =RESUMO!D17 -> 318589.51 | D13: =C13/$C$17 -> 0.03729825 | I13: =$C$13*15% -> 47788.427 | J13: =I13/$C$13 -> 0.15 | K13: =$C$13*10% -> 31858.951 | L13: =K13/$C$13 -> 0.1 | M13: =$C$13*20% -> 63717.902 | N13: =M13/$C$13 -> 0.2 | O13: =$C$13*15% -> 47788.427 | P13: =O13/$C$13 -> 0.15 | Q13: =$C$13*15% -> 47788.427 | R13: =Q13/$C$13 -> 0.15 | S13: =$C$13*10% -> 31858.951 | T13: =S13/$C$13 -> 0.1 | U13: =$C$13*8% -> 25487.161 | V13: =U13/$C$13 -> 0.08 | W13: =$C$13*7% -> 22301.266 | X13: =W13/$C$13 -> 0.07
A14: =RESUMO!A18 -> 7.0 | B14: =RESUMO!B18 -> INSTALAÇÃO ELÉTRICA | C14: =RESUMO!D18 -> 428812.52 | D14: =C14/$C$17 -> 0.050202395 | K14: =$C$14*15% -> 64321.878 | L14: =K14/$C$14 -> 0.15 | M14: =$C$14*10% -> 42881.252 | N14: =M14/$C$14 -> 0.1 | O14: =$C$14*15% -> 64321.878 | P14: =O14/$C$14 -> 0.15 | Q14: =$C$14*20% -> 85762.504 | R14: =Q14/$C$14 -> 0.2 | S14: =$C$14*20% -> 85762.504 | T14: =S14/$C$14 -> 0.2 | U14: =$C$14*10% -> 42881.252 | V14: =U14/$C$14 -> 0.1 | W14: =$C$14*10% -> 42881.252 | X14: =W14/$C$14 -> 0.1
A15: =RESUMO!A19 -> 8.0 | B15: =RESUMO!B19 -> SISTEMAS DE PROTEÇÃO CONTRA DESCARGAS ATMOSFÉRICAS | C15: =RESUMO!D19 -> 96862.13 | D15: =C15/$C$17 -> 0.011339946 | Q15: =$C$15*50% -> 48431.065 | R15: =Q15/$C$15 -> 0.5 | S15: =$C$15*50% -> 48431.065 | T15: =S15/$C$15 -> 0.5
A16: =RESUMO!A20 -> 9.0 | B16: =RESUMO!B20 -> INSTALAÇÕES DE SEGURANÇA E PREVENÇÃO A COMBATE A INCÊNDIO E PÂNICO | C16: =RESUMO!D20 -> 101269.64 | D16: =C16/$C$17 -> 0.011855947 | O16: =$C$16*20% -> 20253.928 | P16: =O16/$C$16 -> 0.2 | Q16: =$C$16*30% -> 30380.892 | R16: =Q16/$C$16 -> 0.3 | S16: =$C$16*30% -> 30380.892 | T16: =S16/$C$16 -> 0.3 | U16: =$C$16*20% -> 20253.928 | V16: =U16/$C$16 -> 0.2
B17: TOTAL | C17: =SUM(C8:C16) -> 8541674.5 | D17: =SUM(D8:D16) -> 1 | E17: =SUM(E8:E16) -> 270593.87 | F17: =E17/$C$17 -> 0.031679253 | G17: =SUM(G8:G16) -> 786460.6 | H17: =G17/$C$17 -> 0.092073352 | I17: =SUM(I8:I16) -> 987402.29 | J17: =I17/$C$17 -> 0.11559821 | K17: =SUM(K8:K16) -> 1551661.4 | L17: =K17/$C$17 -> 0.18165776 | M17: =SUM(M8:M16) -> 1395208.9 | N17: =M17/$C$17 -> 0.16334138 | O17: =SUM(O8:O16) -> 1232758.5 | P17: =O17/$C$17 -> 0.14432281 | Q17: =SUM(Q8:Q16) -> 890922.48 | R17: =Q17/$C$17 -> 0.10430302 | S17: =SUM(S8:S16) -> 766332.64 | T17: =S17/$C$17 -> 0.089716909 | U17: =SUM(U8:U16) -> 441200.82 | V17: =U17/$C$17 -> 0.051652732 | W17: =SUM(W8:W16) -> 219132.96 | X17: =W17/$C$17 -> 0.025654567

Sheet Quant Bloco Salas + Urbanização
A1: SERVIÇOS TÉCNICOS - PROJETOS | F1: Plan. Orçamentária
A2: SERVIÇOS PRELIMINARES
A3: Item | B3: Serviços | C3: Memória Cálculo | D3: Un | E3: Quant.
A4: 1.1 | B4: Administração de Obra | D4: mês | E4: 10 | F4: =ROUND(E4,2) -> 10 | G4: ok
A5: Item | B5: Serviços | C5: Memória Cálculo | D5: Un | E5: Quant.
A6: 2.1 | B6: Fornecimento e instalação de placa de obra, padrão Governo de Mato Grosso, tamanho 5,00x2,50m | C6: Placa padrão SEDUC | D6: Und | E6: 1 | F6: =ROUND(E6,2) -> 1 | G6: ok
A7: 2.2 | B7: Placa de nome dos profissionais | C7: Placa padrão SEDUC | D7: Und | E7: 1 | F7: =ROUND(E7,2) -> 1 | G7: ok
A8: 2.3 | B8: Limpeza mecanizada de terreno com remoção de camada vegetal, utilizando motoniveladora | C8: Área interna do terreno | D8: m2 | E8: 9569 | F8: =ROUND(E8,2) -> 9569 | G8: ok
A9: 2.4 | B9: Locação de obra, execução de gabarito | C9: Área construida do bloco educacional = 2073,02m² Calçadas em volta do bloco educacional = 276,12m² Abrigo de GLP laboratórios = 1,52m² Áreas pavimentadas (lastro 8cm, 10cm) = 323,69m² Área da Calçada Externa = 873,76m² Escada de acesso ao estacionamento = 55,55m² Área piso em bloco intertravado = 1.306,21m² | D9: m2 | E9: =2073.02+276.26+1.52+323.69+873.76+55.55+1306.21 -> 4910.01 | F9: =ROUND(E9,2) -> 4910.01 | G9: =E9+'[4]Quant Const. Refeitorio'!E4+'[4]Quant Vestiários + Quadra'!E4 -> 7165.05
A10: 2.5 | B10: Execução de escritório em canteiro de obra em chapa de madeira compensada, não incluso mobiliário e equipamentos. af_02/2016 | C10: Barracão modelo Seduc | D10: m2 | E10: 20.3 | F10: =ROUND(E10,2) -> 20.3 | G10: ok
A11: 2.6 | B11: Execução de almoxarifado em canteiro de obra em chapa de madeira compensada, incluso prateleiras. af_02/2016 | C11: Barracão modelo Seduc | D11: m2 | E11: 21.8 | F11: =ROUND(E11,2) -> 21.8 | G11: ok
A12: 2.7 | B12: Execução de refeitório em canteiro de obra em chapa de madeira compensada, não incluso mobiliário e equipamentos. af_02/2016 | C12: Barracão modelo Seduc | D12: m2 | E12: 14.5 | F12: =ROUND(E12,2) -> 14.5 | G12: ok
A13: 2.8 | B13: Execução de sanitário e vestiário em canteiro de obra em chapa de madeira compensada, não incluso mobiliário. af_02/2016 | C13: Barracão modelo Seduc | D13: m2 | E13: 11.6 | F13: =ROUND(E13,2) -> 11.6 | G13: ok
A14: 2.9 | B14: Tapume em chapa metálica, trapezoidal esp. 0,43mm com estrutura em madeira | C14: Perimetro*2,2 altura tapume (4 lados do terreno) 430,85 X 2,2m altura tapume | D14: m2 | E14: =430.85*2.2 -> 947.87 | F14: =ROUND(E14,2) -> 947.87 | G14: ok
A15: 2.10 | B15: Carga e transporte em caçamba bota-fora com capacidade de 6m³. inclusive taxa de destinação final | C15: Estimado 4 caçamba para retirada de camada vegetal e lixos existentes no terreno | D15: m3 | E15: 24 | F15: =ROUND(E15,2) -> 24 | G15: ok
A16: 2.11 | B16: Ligação de Água | D16: Und | E16: 1 | F16: =ROUND(E16,2) -> 1 | G16: ok
A17: 2.12 | B17: Ligação Elétrica | D17: Und | E17: 1 | F17: =ROUND(E17,2) -> 1 | G17: ok
A18: COBERTURA
A19: Item | B19: Serviços | C19: Memória Cálculo | D19: Un | E19: Quant.
A20: 3.1 | B20: Telha Isotérmica | C20: Área de cobertura secretária = 34,50m² | D20: m2 | E20: 34.5 | F20: =ROUND(E20,2) -> 34.5 | G20: ok
A21: 3.2 | B21: Telha de aço | C21: Área de cobertura dos blocos de sala de aula bloco 01 - 24,74x46,20= 1. 142,98 bloco 02- 24,74*52,20=1.291,42m² | D21: m2 | E21: =1142.98+1291.42 -> 2434.4 | F21: =ROUND(E21,2) -> 2434.4 | G21: ok
A22: 3.3 | B22: Calha | C22: Comprimento de calha da área de cobertura da secretária | D22: m | E22: 11.6 | F22: =ROUND(E22,2) -> 11.6 | G22: ok
A23: 3.4 | B23: Pingadeira metálica | C23: Comprimento do rufo da área de cobertura da secretária | D23: m | E23: =25+16.93 -> 41.93 | F23: =ROUND(E23,2) -> 41.93 | G23: ok
A24: ESQUADRIAS
A25: Item | B25: Serviços | C25: Memória Cálculo | D25: Un | E25: Quant.
A26: 4.1 | B26: P1 - Porta de Alumínio - 1 Folha - 0,80 x 1,70 | C26: Banheiros 8un | D26: m² | E26: =8*0.8*1.7 -> 10.88 | F26: =ROUND(E26,2) -> 10.88 | G26: ok
A27: 4.2 | B27: P2 - Porta Metálica - 1 Folha - 0,90 x 2,10 | C27: Sala dos Professores+ Sala de Reunião+ Coordenadoria+ Diretoria 4un | D27: m² | E27: =4*0.9*2.1 -> 7.56 | F27: =ROUND(E27,2) -> 7.56 | G27: ok
A28: 4.3 | B28: P3 - Porta Metálica - 1 Folha c/ visor - 0,90 x 2,10 | C28: Biblioteca + Sala de Aula + Lab. De Física + Lab. De Química + Sala de Informática + Sala Articulada 21un | D28: m² | E28: =21*0.9*2.1 -> 39.69 | F28: =ROUND(E28,2) -> 39.69 | G28: ok
A29: 4.4 | B29: P4 - Porta Metálica c/ barra PCD - 1 Folha - 0,90 x 2,10 | C29: Banheiros PCD | D29: m² | E29: =2*0.9*2.1 -> 3.78 | F29: =ROUND(E29,2) -> 3.78 | G29: ok
A30: 4.5 | B30: P5 - Porta de Vidro - 2 Folhas - 1,0 x 2,10 | C30: Secretaria | D30: m² | E30: =1*2.1 -> 2.1 | F30: =ROUND(E30,2) -> 2.1 | G30: ok
A31: 4.6 | B31: P6 - Porta de Vidro - 1 Folha - 1,0 x 2,10 | C31: Biblioteca | D31: m² | E31: =1*2.1 -> 2.1 | F31: =ROUND(E31,2) -> 2.1 | G31: ok
A32: 4.7 | B32: P7 - Porta metálica 1 Folha - 0,80 x 2,10 | C32: Arquivo, copa, lav. Profs, banheiro de alunos | D32: m² | E32: =6*0.8*2.1 -> 10.08 | F32: =ROUND(E32,2) -> 10.08 | G32: ok
A33: 4.8 | B33: J1 - Janela MAXIM-AR - 3 folhas - 3,0 x 0,60 x 1,95 | C33: Bilioteca + Sala de Aula + Lab. De Física + Lab. De Química + Sala de Reunião + Cordenadoria + Sala de Informática + Sala Articulada | D33: m² | E33: =26*3*0.6 -> 46.8 | F33: =ROUND(E33,2) -> 46.8 | G33: ok
A34: 4.9 | B34: J2 - Janela MAXIM-AR - 3 folhas - 3,0 x 0,80 x 1,95 | C34: Banheiros | D34: m² | E34: =2*3*0.6 -> 3.6 | F34: =ROUND(E34,2) -> 3.6 | G34: ok
A35: 4.10 | B35: J3 - MAXM- AR 1 folha ( 1,20x2,40x0,15) | C35: Sala de Aula + Lab. De Física + Lab. De Química + Sala dos Professores + Sala de Reunião + Diretoria + Sala de Informática + Sala Articulada | D35: m² | E35: =46*1.2*2.4 -> 132.48 | F35: =ROUND(E35,2) -> 132.48 | G35: ok
A36: 4.11 | B36: J5 - MAXIM-AR 1 folhas 0,4x0,4 peitoril 1,95 | C36: Banheiros PCD | D36: m² | E36: =4*0.4*0.4 -> 0.64 | F36: =ROUND(E36,2) -> 0.64 | G36: ok
A37: 4.12 | B37: J8 - MAXIM-AR 3 folhas 2,0x0,8 peitoril 1,95 | C37: Sala dos Professores | D37: m² | E37: =2*0.8*1 -> 1.6 | F37: =ROUND(E37,2) -> 1.6 | G37: ok
A38: 4.13 | B38: Pele de vidro secretaria | C38: Pele de vidro da secretaria com a P5 | D38: m² | E38: 37.42 | F38: =ROUND(E38,2) -> 37.42 | G38: ok
A39: 4.14 | B39: Pele de vidro Biblioteca | C39: Pele de vidro na biblioteca com a P6 | D39: m² | E39: 19.25 | F39: =ROUND(E39,2) -> 19.25 | G39: ok
A40: 4.15 | B40: Pintura em esquadrias metálicas | C40: Área de pintura = área da porta*qtd de portas*3 P2 = (1,89*4) P3 = (1,89*21) P4 = (1,89*2) P7=(1,68*6) | D40: m2 | E40: =((1.89*4)+(1.89*21)+(1.89*2)+(1.68*6))*3 -> 183.33 | F40: =ROUND(E40,2) -> 183.33 | G40: ok
...

Sheet Quant Const. Refeitorio
A1: SERVIÇOS TÉCNICOS - PROJETOS - CONSTRUÇÃO DE REFEITORIO
A2: SERVIÇOS PRELIMINARES
A3: Item | B3: Serviços | C3: Memória Cálculo | D3: Un | E3: Quant.
A4: 1.1 | B4: Locação de Obra | C4: Área Do Refeitório = 378,45 Abrigo de GLP cozinha = 1,52m² Abrigo de Lixo = 1,89m² Calçada entorno= 98,40m² | D4: M² | E4: =378.45+1.52+98.4+1.89 -> 480.26 | F4: =ROUND(E4,2) -> 480.26 | G4: ok
A5: ELEMENTOS DE VEDAÇÃO
A6: Item | B6: Serviços | C6: Memória Cálculo | D6: Un | E6: Quant.
A7: 2.1 | B7: Alvenaria 1/2vez vão >6m² | C7: Alvenarias: *H = 3,80ml (2,65+4,05+6,05+5,45+2,65+4,15+1,40+3,25+2,5+4,75+9,10+9,10) =55,10ml x 3,80 = 209,38m² (-) 27,76m² = 181,62m² *Parede Fundo da Cozinha: 59,86m² *Parede Frente da Cozinha: 61,17m² *H = 1,50m Mureta Cozinha 2,50 x 1,50 = 3,75m² *Fechamento Lateral área aberta (Refeitório) com desconto de vigas e Cobogó: 21,40m² x 2 lados = 53,40m² X 2 *Fechamento parede frente Refeitorio = 23,55m² | D7: M² | E7: =181.62+59.86+61.17+3.75+53.4+53.4+23.55 -> 436.75 | F7: =ROUND(E7,2) -> 436.75 | G7: ok
A8: VERGA E CONTRA-VERGA
A9: Item | B9: Serviços | C9: Memória Cálculo | D9: Un | E9: Quant.
A10: 3.2 | B10: Verga vão até 1,50m Portas | C10: Portas Novas: P2 08un (0,90cm) P7 02un (0,80cm) | D10: M | E10: =(1.3*8)+(1.2*2) -> 12.8 | F10: =ROUND(E10,2) -> 12.8 | G10: ok
A11: 3.3 | B11: Verga vão até 1,50m Janelas | C11: J6 05un (0,80cm) | D11: M | E11: =5*1.2 -> 6 | F11: =ROUND(E11,2) -> 6 | G11: ok
A12: 3.4 | B12: Verga vão acima de 1,50m Janelas | C12: J4 06un (2,00) J7 02un (2,00) | D12: M | E12: =2.4*8 -> 19.2 | F12: =ROUND(E12,2) -> 19.2 | G12: ok
A13: 3.5 | B13: Contra Verga vão até 1,50m | C13: J6 05un (0,80cm) | D13: M | E13: =5*1.2 -> 6 | F13: =ROUND(E13,2) -> 6 | G13: ok
A14: 3.6 | B14: Contra Verga vão acima de 1,50m | C14: J4 06un (2,00) J7 02un (2,00) | D14: M | E14: =2.4*8 -> 19.2 | F14: =ROUND(E14,2) -> 19.2 | G14: ok
A15: COBERTURA
A16: Item | B16: Serviços | C16: Memória Cálculo | D16: Un | E16: Quant.
A17: 4.1 | B17: Telha Ondulada | C17: Área da Cobertura comprimento x arco = 28,10x16,50 | D17: M² | E17: =28.1*16.5 -> 463.65 | F17: =ROUND(E17,2) -> 463.65 | G17: ok
A18: ESQUADRIAS
A19: Item | B19: Serviços | C19: Memória Cálculo | D19: Un | E19: Quant.
A20: 5.1 | B20: Portas 90 (P2) | C20: 08 portas: (0,90*2,10) | D20: M² | E20: =(0.9*2.1)*8 -> 15.12 | F20: =ROUND(E20,2) -> 15.12 | G20: ok
A21: 5.2 | B21: Porta 80 (P7) | C21: 02 portas: (0,80*2,10) | D21: M² | E21: =(0.8*2.1)*2 -> 3.36 | F21: =ROUND(E21,2) -> 3.36 | G21: ok
A22: 5.3 | B22: Janela Maxim-ar 2,00 x 0,80 (J4) | C22: 06 janelas : 2,00X0,80 | D22: M² | E22: =6*2*0.8 -> 9.6 | F22: =ROUND(E22,2) -> 9.6 | G22: ok
A23: 5.4 | B23: Janela Maxim-ar 0,80 x 0,40 (J6) | C23: 05 janelas : 0,80X0,40 | D23: M² | E23: =0.8*0.4*5 -> 1.6 | F23: =ROUND(E23,2) -> 1.6 | G23: ok
A24: 5.5 | B24: Guilhotina 2,00 x 1,50 (J7) | C24: 02 janelas : 2,00x1,50 | D24: M² | E24: =2*1.5*2 -> 6 | F24: =ROUND(E24,2) -> 6 | G24: ok
A25: REVESTIMENTOS
A26: Item | B26: Serviços | C26: Memória Cálculo | D26: Un | E26: Quant.
A27: 6.1 | B27: Chapisco de Paredes | C27: *Área da Alvenaria x 2 lados (-) Chapisco interno Cozinha acima da laje 21,90m² x 2 lados *Pilares do Refeitorio (15x30): 11un x 3,90ml pé direito | D27: M² | E27: =((E7*2)+(0.9*11*3.9))-(21.9*2) -> 868.31 | F27: =ROUND(E27,2) -> 868.31 | G27: ok
A28: 6.2 | B28: Chapisco de Teto (Laje) | C28: Triagem: 14,87m² WC funcionarios fem: 3,75m² WC funcionario masc: 3,75m² Cozinha: 48,90m² Circulação: 26,06m² DML: 3,87m² Desp. Alimentos: 9,54m² Desp. Utensilios: 9,54m² | D28: M² | E28: =14.87+3.75+3.75+48.9+26.06+3.87+9.54+9.54 -> 120.28 | F28: =ROUND(E28,2) -> 120.28 | G28: ok
A29: 6.3 | B29: Reboco de Parede | C29: Area de Chapisco (-) Área de Emboço | D29: M² | E29: =E27-E31 -> 450.381 | F29: =ROUND(E29,2) -> 450.38 | G29: ok
A30: 6.4 | B30: Reboco de Teto (Laje) | C30: Triagem: 14,87m² WC funcionarios fem: 3,75m² WC funcionario masc: 3,75m² Cozinha: 48,90m² Circulação: 26,06m² DML: 3,87m² Desp. Alimentos: 9,54m² Desp. Utensilios: 9,54m² | D30: M² | E30: =14.87+3.75+3.75+48.9+26.06+3.87+9.54+9.54 -> 120.28 | F30: =ROUND(E30,2) -> 120.28 | G30: ok
A31: 6.5 | B31: Emboço para revestimento Cerâmico | C31: H=3,80ml (Pé direito) DML - 8,70ml (-) 1P2, 1J6 Triagem - 16,90ml (-) 2P2, 2J4 Desp. Alimentos - 12,90ml (-) 1P2, 1J4 Desp. Utensil. - 12,90ml (-) 1P2, 1J4 Wc Fem/Masc. - 8,00ml x 2un (-) 2J6, 2P7 Cozinha - 30,38ml (-) 6P2, 2J6, 2J4, 2J7 Circulação/A. Serviço - 16,40ml (-) 4P2, 1J4, 2J6, 2P7 H=1,50ml Mureta div. Cozinha - 5,15ml 11un de Pilar (0,30x0,15) = 14,85m² H=1,20ml Parede externa da cozinha de frente para o Refeitório - 14,50ml (-) 1P2, 2J7 | D31: M² | E31: =(((8.7+16.9+12.9+12.9+8+8+30.38+16.4)*3.8)-54.45)+(5.15*1.5)+((14.5*1.2)-1.48)+14.85 -> 417.929 | F31: =ROUND(E31,2) -> 417.93 | G31: ok
A32: 6.6 | B32: Azulejo 20x20cm | C32: H=3,80ml (Pé direito) DML - 8,70ml (-) 1P2, 1J6 Triagem - 16,90ml (-) 2P2, 2J4 Desp. Alimentos - 12,90ml (-) 1P2, 1J4 Desp. Utensil. - 12,90ml (-) 1P2, 1J4 Wc Fem/Masc. - 8,00ml x 2un (-) 2J6, 2P7 Cozinha - 30,38ml (-) 6P2, 2J6, 2J4, 2J7 Circulação/A. Serviço - 16,40ml (-) 4P2, 1J4, 2J6, 2P7 H=1,50ml Mureta div. Cozinha - 5,15m 11un de Pilar (0,30x0,15) = 14,85m² H=1,20ml Parede externa da cozinha de frente para o Refeitório - 14,50ml (-) 1P2, 2J7 | D32: M² | E32: =(((8.7+16.9+12.9+12.9+8+8+30.38+16.4)*3.8)-54.45)+(5.15*1.5)+((14.5*1.2)-1.48)+14.85 -> 417.929 | F32: =ROUND(E32,2) -> 417.93 | G32: ok
A33: 6.7 | B33: Revestimento cerâmico 5x5 H= 1,10ml *COR PANTONE 308U *COR PANTONE 2758C *COR PANTONE 3125U | C33: Revestimento 5x5cm h= 1,10cm (Parade frente ao Refeitório 14,50ml) + 11 Pilares de 15x30 x 1,50altura *COR PANTONE 308U - 4,37m² + Pilares 14,85m² *COR PANTONE 2758C - 4,51m² *COR PANTONE 3125U - 3,59m² | D33: M² | E33: =4.37+4.51+3.59+14.85 -> 27.32 | F33: =ROUND(E33,2) -> 27.32 | G33: ok
A34: 6.8 | B34: Impermeabilização | C34: Paredes H=1,10cm Interno: Triagem de Alimentos: 16,90ml x 1,10 (-) 1,98m² Área do Tanque:/ 3,35mlx1,10ml WC funcionarios fem: 8,00ml x 1,10 (-) 0,88m² WC funcionario masc: / 8,00ml x 1,10 (-) 0,88m² Cozinha: 30,80ml x 1,10 (-) 5,94m² Externo: Áreas acima externa: 55,30ml x 1,10ml (-) 4P2,2P7 = 60,83m² (-) 5,72m² = 55,11m² | D34: M² | E34: =(((16.9+3.35+16+30.8)*1.1)-(1.98+0.88+0.88+5.94))+55.11 -> 119.185
A35: PISOS
A36: Item | B36: Serviços | C36: Memória Cálculo | D36: Un | E36: Quant.
A37: 7.1 | B37: Piso Porcelanato | C37: Triagem: 14,87m² WC funcionarios fem: 3,75m² WC funcionario masc: 3,75m² Cozinha: 48,90m² Circulação: 24,80m² DML: 3,87m² Desp. Alimentos: 9,54m² Desp. Utensilios: 9,54m² Refeitório: 239,16m² | D37: M² | E37: =14.87+3.75+3.75+48.9+24.8+3.87+9.54+9.54+239.16 -> 358.18 | F37: =ROUND(E37,2) -> 358.18 | G37: ok
A38: 7.2 | B38: Soleira | C38: 08un P2 (0,90) 02un P7 (0,80 Contorno refeitório : 3,84+3,95+3,95+4,01+4,51+4,48+4,51+4,01+3,95+3,95+3,84: 45,00ml Circulação fundos: 2,55 + 5,45 | D38: M | E38: =(0.9*8)+(0.8*2)+45+2.55+5.45 -> 61.8 | F38: =ROUND(E38,2) -> 61.8 | G38: ok
A39: PINTURA
A40: Item | B40: Serviços | C40: Memória Cálculo | D40: Un | E40: Quant.
...

Sheet Quant Vestiários + Quadra
A1: SERVIÇOS TÉCNICOS - PROJETOS - VESTIARIOS E QUADRA POLIESPORTIVA
A2: SERVIÇOS PRELIMINARES
A3: Item | B3: Serviços | C3: Memória Cálculo | D3: Un | E3: Quant.
A4: 1.1 | B4: Locação | C4: Quadra Poliesportiva = 1.566,94m² Calçada = 207,84 | D4: M² | E4: =1566.94+207.84 -> 1774.78 | F4: =ROUND(E4,2) -> 1774.78 | G4: ok
A5: IMPERMEABILIZAÇÃO
A6: Item | B6: Serviços | C6: Memória Cálculo | D6: Un | E6: Quant.
A7: 2.1 | B7: Impermeabilização | C7: Paredes H=1,10cm Interno: Vestiário Fem: 17,00ml x 1,10ml altura (-) 1P2 = 17,71m² Vestiário Fem PCD: 9,60 x 1,10ml (-) 1P4 = 9,57m² Vestiário Masc: 17,00ml x 1,10ml altura (-) 1P2 = 17,71m² Vestiário Masc PCD: 9,60 x 1,10ml (-) 1P4 = 9,57m² Externo: Perede contorno áreas acima e quadra = 217,84 x 1,10 = 239,62m² | D7: M² | E7: =17.71+9.57+17.51+9.57+239.62 -> 293.98 | F7: =ROUND(E7,2) -> 293.98 | G7: ok
A8: ELEMENTOS DE VEDAÇÃO
A9: Item | B9: Serviços | C9: Memória Cálculo | D9: Un | E9: Quant.
A10: 3.1 | B10: Alvenaria 1/2vez > ou = 6m² sem vão | C10: Vestiário: 37,65ml x 3,35 altura (-)2P2, 2P4, 2J2, 2J9 Quadra: H=13,30ml *Parede em frente ao vestiário - 30,00ml x 13,30ml (-)abertura de acesso 3,00x2,50, Cobogó 5unx5,55compx2,20alturax2lados= 399m²(-) 7,5m²+60,50m² *Parede Lateral Esq. (arquibancada) - 50,25ml x 13,30ml (-) Cobogó 105,60m² * Fachada - 399,00m² (-) Cobogó 60,50m² *Parede Lateral Direita (Acesso) - 503,00m² (-) Cobogó 105,60m² | D10: M² | E10: =(((37.65*3.35)-13)+331+562.72+338.5+397.4) -> 1742.7475 | F10: =ROUND(E10,2) -> 1742.75 | G10: ok
A11: 3.2 | B11: Cobogó | C11: *Parede em frente ao vestiario: 60,50m² *Fachada Frontal: 60,50m² *Parede lateral (arquibancada): 105,60m² *Parede lateral acesso: 6,00ml x 2,20ml x 08un | D11: M² | E11: =60.5+60.5+105.6+105.6 -> 332.2 | F11: =ROUND(E11,2) -> 332.2 | G11: ok
A12: 3.3 | B12: Verga vão até 1,50m Portas | C12: Portas Novas: P2 - Vestiário F/M (0,90) 02un P4 - Vestiário PCD F/M (0,90) 02un | D12: M | E12: =1.3*4 -> 5.2 | F12: =ROUND(E12,2) -> 5.2 | G12: ok
A13: 3.4 | B13: Verga vão até 1,50m Janelas | C13: Acima das Janelas J9 - Vestiário PCD F/M (0,80) 02un | D13: M | E13: =(1.2*2) -> 2.4 | F13: =ROUND(E13,2) -> 2.4 | G13: ok
A14: 3.5 | B14: Verga vão acima de 1,50m Janelas | C14: Acima das Janelas J2 - Vestiário F/M (3,00) 02un | D14: M | E14: =(3.4*2) -> 6.8 | F14: =ROUND(E14,2) -> 6.8 | G14: ok
A15: 3.6 | B15: Contra Verga vão até de 1,50m | C15: Abaixo das Janelas J9 - Vestiário PCD F/M (0,80) 02un | D15: M | E15: =(1.2*2) -> 2.4 | F15: =ROUND(E15,2) -> 2.4 | G15: ok
A16: 3.7 | B16: Contra Verga acima de 1,50m | C16: Abaixo das Janelas J2 - Vestiário F/M (3,00) 02un | D16: M | E16: =(3.4*2) -> 6.8 | F16: =ROUND(E16,2) -> 6.8 | G16: ok
A17: COBERTURA
A18: Item | B18: Serviços | C18: Memória Cálculo | D18: Un | E18: Quant.
A19: 4.1 | B19: Telha Isotermica | C19: Área de Cobertura do Vestiário: 73,93m² Área de Cobertura da Quadra: 1.461,18m² | D19: M² | E19: =73.93+1461.18 -> 1535.11 | F19: =ROUND(E19,2) -> 1535.11 | G19: ok
A20: 4.2 | B20: Rufo Metálico | C20: Cobertura da Quadra: 49,70ml x 2 lados Cobertura do Vestiário: 16,25ml | D20: M | E20: =49.7+49.7+16.26 -> 115.66 | F20: =ROUND(E20,2) -> 115.66 | G20: ok
A21: 4.3 | B21: ContraRufo Metálico | C21: Cobertura da Quadra: 49,70ml x 2 lados Cobertura do Vestiário: 16,25ml | D21: M | E21: =49.7+49.7+16.26 -> 115.66 | F21: =ROUND(E21,2) -> 115.66 | G21: ok
A22: 4.4 | B22: Calha Metálica | C22: Cobertura da Quadra: 49,70ml x 2 lados | D22: M | E22: =49.7+49.7 -> 99.4 | F22: =ROUND(E22,2) -> 99.4 | G22: ok
A23: ESQUADRIAS
A24: Item | B24: Serviços | C24: Memória Cálculo | D24: Un | E24: Quant.
A25: 5.1 | B25: Porta 0,90 sem visor (P2) (P4) | C25: Vestiário F/M - (P2) - 0,90cm Vestiário PCD F/M - (P4) - 0,90cm | D25: UN | E25: 4 | F25: =E25 -> 4 | G25: ok
A26: 5.2 | B26: Porta Alumínio WC (P1) | C26: Vestiários F/M TOTAL: 10 UNIDADES = 0,60x1,70= 1,02m² x 10 = 10,20m² | D26: M² | E26: 10.2 | F26: =E26 -> 10.2 | G26: ok
A27: 5.3 | B27: Maxim-ar 3,00x0,80 (J2) | C27: Vestiário F/M - 02un Vestiário PCD F/M - 02un | D27: M² | E27: =3*0.8*2 -> 4.8 | F27: =E27 -> 4.8 | G27: ok
A28: 5.4 | B28: Maxim-ar 0,80x0,40 (J9) | C28: Vestiário F/M - 02un Vestiário PCD F/M - 02un | D28: M² | E28: =0.8*0.4*2 -> 0.64 | F28: =E28 -> 0.64 | G28: ok
A29: REVESTIMENTOS
A30: Item | B30: Serviços | C30: Memória Cálculo | D30: Un | E30: Quant.
A31: 6.1 | B31: Chapisco | C31: Fechamento: *Área de alvenaria do Vestiário + Quadra x 2 lados *Arquibancada: 279,09m² *Pilares de acesso 9unx 1,70x3,20 | D31: M² | E31: =(E10*2)+279.09+(9*1.7*3.2) -> 3813.545 | F31: =ROUND(E31,2) -> 3813.55 | G31: ok
A32: 6.2 | B32: Reboco | C32: Fechamento: *Área de alvenaria do Vestiário + Quadra x 2 lados *Arquibancada: 279,09m² *Pilares de acesso 9unx 1,70x1,70 (-) Emboço | D32: M² | E32: =E31-E33 -> 3607.595 | F32: =ROUND(E32,2) -> 3607.6 | G32: ok
A33: 6.3 | B33: Emboço | C33: Áreas de azulejo: altura de 3,00m: Vestiario F/M = 17,00ml x 2un = 34,00ml x 3,00ml altura (-) 1J2,1P2 Vestiarios F/M PCD = 9,60ml x 2un = 19,20 x 3,00ml altura (-) J19, 1P4 Circulação = 12,70ml x 3,00ml altura (-) 2P2, 2P4, 2J9, abertura de acesso 3,00x2,50 *Pilares de acesso 9unx 1,70x1,50 | D33: M² | E33: =97.71+55.39+29.9+(9*1.7*1.5) -> 205.95 | F33: =ROUND(E33,2) -> 205.95 | G33: ok
A34: 6.4 | B34: Azulejo 20x20cm | C34: Áreas de azulejo: altura de 3,00m: Vestiario F/M = 17,00ml x 2un = 34,00ml x 3,00ml altura (-) 1J2,1P2 Vestiarios F/M PCD = 9,60ml x 2un = 19,20 x 3,00ml altura (-) J19, 1P4 Circulação = 12,70ml x 3,00ml altura (-) 2P2, 2P4, 2J9, abertura de acesso 3,00x2,50 *Pilares de acesso 9unx 1,70x1,50 | D34: M² | E34: =97.71+55.39+29.9+(9*1.7*1.5) -> 205.95 | F34: =ROUND(E34,2) -> 205.95 | G34: ok
A35: 6.5 | B35: Revestimento cerâmico 5x5 H= 1,10ml | C35: Detalhe Fachada Frontal e Lateral Direita - Faixa de 1,40ml de largura x 13,30ml (-) Cobogó *COR PANTONE 308U - 15,58m² *COR PANTONE 2758C - 17,78m² *COR PANTONE 3125U - 15,58m² FAIXA LATERAL (ACESSO): *COR PANTONE 308U - 11,10m² + Pilares de acesso 7unx 1,70x1,50+ Pilar de acesso 1un x 1,20*1,50 *COR PANTONE 2758C - 14,34m² *COR PANTONE 3125U - 11,10m² | D35: M² | E35: =15.58+17.58+15.58+11.1+14.34+11.1+(7*1.7*1.5)+(1*1.2*1.5) -> 104.93 | F35: =ROUND(E35,2) -> 104.93 | G35: ok
A36: PISOS
A37: Item | B37: Serviços | D37: Un | E37: Quant.
A38: 7.1 | B38: Piso Porcelanato | C38: Vestiarios F/M: 147,86m² x 2 Vestiarios M/F PCD: 5,49m² x 2 Circulação: 6,56m² | D38: M² | E38: =(17.86*2)+(5.49*2)+6.56 -> 53.26 | F38: =ROUND(E38,2) -> 53.26 | G38: ok
A39: 7.2 | B39: Soleira | C39: 02un P2 (0,90) 02un P4 (0,90) Vão de acesso vestiario/quadra 3,00ml | D39: M | E39: =(0.9*4)+3 -> 6.6 | F39: =ROUND(E39,2) -> 6.6 | G39: ok
A40: DIVISÓRIAS
...

Sheet Muro de arrimo
A1: LEVANTAMENTO QUANTITATIVOS EE SÃO SIMÃO - MURO DE ARRIMO_R01
A3: INFRA-ESTRUTURA
A4: ITENS GERAIS | K4: =K5/I5 -> 0.68808233 | N4: =M5/I5 -> 0.31191767
A5: ESCAVAÇÃO MECANIZADA PARA EXECUÇÃO DO MURO DE ARRIMO | I5: 1211.73 | J5: m3 | K5: 833.77 | L5: acima de 2m | M5: =I5-K5 -> 377.96 | N5: abaixo de 2m
A6: APILOAMENTO DO FUNDO DAS LAJES DE EQUILIBRIO DO MURO DE ARRIMO | I6: 528.45 | J6: m2
A7: LASTRO DE CONCRETO DE 5CM (FUNDO DA LAJE DE EQUILIBRIO DO MURO DE ARRIMO) | I7: =I6 -> 528.45 | J7: m2
A8: FÔRMAS DO MURO DE ARRIMO | I8: 1095.12 | J8: m2
A9: AÇO CA50 - 8mm (kg) | I9: 1153.7 | J9: kg
A10: AÇO CA50 - 10mm (kg) | I10: 9471.76 | J10: kg
A11: AÇO CA50 - 12,5mm (kg) | I11: 3671.64 | J11: kg
A12: VOLUME DE CONCRETO - FCK 25MPa | I12: 272.89 | J12: m3 | L12: =(I11+I10+I9)/I12 -> 52.39144
A13: LANÇAMENTO DE CONCRETO (m3) | I13: =I12 -> 272.89 | J13: m3
A14: REATERRO E COMPACTAÇÃO | I14: =I5-I12 -> 938.84 | J14: m3 | K14: 646 | L14: acima de 2m | M14: =TRUNC(I14*N4,2) -> 292.84 | N14: abaixo de 2m
A15: BOTA FORA | I15: =I13*1.3 -> 354.757 | J15: m3

Sheet EST. BLOCO 1
A1: LEVANTAMENTO QUANTITATIVOS ESTRUTURAL - BLOCO 1
A3: CRIAÇÃO DE PLATÔ PARA INÍCIO DA EXECUÇÃO DOS ELEMENTOS DE CONCRETO
A4: FORNECIMENTO DE ATERRO (ESTIMADO VOLUME REFERENTE A CAMADA DE 0,60m EM TODA ÁREA DO BLOCO - COM SAIA DE PLATÔ DE 45°) - m3 | I4: =0.6*I24 -> 578.082
A5: ESPALHAMENTO DO MATERIAL (ÁREA DO BLOCO 1) - VER SE HÁ NECESSIDADE DE SER CONTADO DUAS VEZES, POIS É NECESSÁRIO FAZER O ESPALHAMENTO EM DUAS CAMADAS DE 0,20m - m2 | I5: =I24 -> 963.47
A6: COMPACTAÇÃO DO MATERIAL (SUGIRO UTILIZAR ROLO COMPACTADOR) - m3 | I6: =I4 -> 578.082
A8: INFRA-ESTRUTURA
A9: ITENS GERAIS
A10: Execuão de estaca hélice contínua monitorada, diam. 30cm, 12 m de comprimento. Não incluso armação | I10: =80*12 -> 960
A11: AÇO DAS ESTACAS - CA60 - 5mm (kg) | I11: 616
A12: AÇO DAS ESTACAS - CA50 - 8mm (kg) | I12: 1517
